BEGIN:VCALENDAR
VERSION:2.0
PRODID:-//Quincy Children&#039;s Museum - ECPv6.15.20//NONSGML v1.0//EN
CALSCALE:GREGORIAN
METHOD:PUBLISH
X-ORIGINAL-URL:https://www.quincychildrensmuseum.org
X-WR-CALDESC:Events for Quincy Children&#039;s Museum
REFRESH-INTERVAL;VALUE=DURATION:PT1H
X-Robots-Tag:noindex
X-PUBLISHED-TTL:PT1H
BEGIN:VTIMEZONE
TZID:America/Chicago
BEGIN:DAYLIGHT
TZOFFSETFROM:-0600
TZOFFSETTO:-0500
TZNAME:CDT
DTSTART:20230312T080000
END:DAYLIGHT
BEGIN:STANDARD
TZOFFSETFROM:-0500
TZOFFSETTO:-0600
TZNAME:CST
DTSTART:20231105T070000
END:STANDARD
BEGIN:DAYLIGHT
TZOFFSETFROM:-0600
TZOFFSETTO:-0500
TZNAME:CDT
DTSTART:20240310T080000
END:DAYLIGHT
BEGIN:STANDARD
TZOFFSETFROM:-0500
TZOFFSETTO:-0600
TZNAME:CST
DTSTART:20241103T070000
END:STANDARD
BEGIN:DAYLIGHT
TZOFFSETFROM:-0600
TZOFFSETTO:-0500
TZNAME:CDT
DTSTART:20250309T080000
END:DAYLIGHT
BEGIN:STANDARD
TZOFFSETFROM:-0500
TZOFFSETTO:-0600
TZNAME:CST
DTSTART:20251102T070000
END:STANDARD
END:VTIMEZONE
BEGIN:VEVENT
DTSTART;TZID=America/Chicago:20241130T080000
DTEND;TZID=America/Chicago:20241130T170000
DTSTAMP:20260421T073930
CREATED:20241224T031356Z
LAST-MODIFIED:20241201T043008Z
UID:1744-1732953600-1732986000@www.quincychildrensmuseum.org
SUMMARY:RESERVATIONS REQUIRED
DESCRIPTION:$5 per visitor (adults and children) \nMembers\, use code MEMBERSAVE for $1 off/ticket \nOpen Play\, adults must stay with their kiddos and a ticket is required for all members of your party. \nStaff will have a countdown timer throughout your session\, ending with a countdown for the new year\, along with 5-10 minutes of cleanup. \nThis event features fun surprises\, a QCM DJ\, & balloon drop. \nClick here to purchase tickets: https://givebutter.com/qcmdecember \nSessions at 9\, 11\, 1\, and 3:00!
URL:https://www.quincychildrensmuseum.org/event/reservations-required-2/
END:VEVENT
BEGIN:VEVENT
DTSTART;TZID=America/Chicago:20241130T080000
DTEND;TZID=America/Chicago:20241130T170000
DTSTAMP:20260421T073930
CREATED:20250101T030104Z
LAST-MODIFIED:20241201T043029Z
UID:1717-1732953600-1732986000@www.quincychildrensmuseum.org
SUMMARY:RESERVATIONS REQUIRED
DESCRIPTION:Christmas Eve Eve \n$5 per visitor (adults included) \nMembers\, use code MEMBERSAVE for $1 off per ticket \nSessions 1 hour and 40 minutes\, at 9\, 11\, 1\, 3\, & 5:00 \nOpen play\, adults must stay with their kiddos and a ticket is required for all members of your party. \nStaff will give a 5-10 minute warning at the end of session that it is time to clean up. \nSpecial activities throughout the museum. \nGrab your tickets here: https://givebutter.com/qcmdecember \n 
URL:https://www.quincychildrensmuseum.org/event/reservations-required/
END:VEVENT
BEGIN:VEVENT
DTSTART;TZID=America/Chicago:20241130T090000
DTEND;TZID=America/Chicago:20241130T103000
DTSTAMP:20260421T073930
CREATED:20241201T024859Z
LAST-MODIFIED:20241201T024859Z
UID:1701-1732957200-1732962600@www.quincychildrensmuseum.org
SUMMARY:Postpartum Support Group: No General Admission
DESCRIPTION:Join QCM & Blessing Health System for our monthly Postpartum Support Group
URL:https://www.quincychildrensmuseum.org/event/postpartum-support-group-no-general-admission/
END:VEVENT
BEGIN:VEVENT
DTSTART;TZID=America/Chicago:20241130T090000
DTEND;TZID=America/Chicago:20241130T153000
DTSTAMP:20260421T073930
CREATED:20241101T142955Z
LAST-MODIFIED:20241101T142955Z
UID:1637-1732957200-1732980600@www.quincychildrensmuseum.org
SUMMARY:General Admission
DESCRIPTION:Come see us tonight at Light the Park in Washington Park!
URL:https://www.quincychildrensmuseum.org/event/general-admission-230/
END:VEVENT
BEGIN:VEVENT
DTSTART;TZID=America/Chicago:20241130T090000
DTEND;TZID=America/Chicago:20241130T193000
DTSTAMP:20260421T073930
CREATED:20241201T025100Z
LAST-MODIFIED:20241201T025100Z
UID:1704-1732957200-1732995000@www.quincychildrensmuseum.org
SUMMARY:General Admission open LATE
DESCRIPTION:
URL:https://www.quincychildrensmuseum.org/event/general-admission-open-late-2/
END:VEVENT
END:VCALENDAR