BEGIN:VCALENDAR
VERSION:2.0
PRODID:-//Quincy Children&#039;s Museum - ECPv6.15.20//NONSGML v1.0//EN
CALSCALE:GREGORIAN
METHOD:PUBLISH
X-WR-CALNAME:Quincy Children&#039;s Museum
X-ORIGINAL-URL:https://www.quincychildrensmuseum.org
X-WR-CALDESC:Events for Quincy Children&#039;s Museum
REFRESH-INTERVAL;VALUE=DURATION:PT1H
X-Robots-Tag:noindex
X-PUBLISHED-TTL:PT1H
BEGIN:VTIMEZONE
TZID:America/Chicago
BEGIN:DAYLIGHT
TZOFFSETFROM:-0600
TZOFFSETTO:-0500
TZNAME:CDT
DTSTART:20230312T080000
END:DAYLIGHT
BEGIN:STANDARD
TZOFFSETFROM:-0500
TZOFFSETTO:-0600
TZNAME:CST
DTSTART:20231105T070000
END:STANDARD
BEGIN:DAYLIGHT
TZOFFSETFROM:-0600
TZOFFSETTO:-0500
TZNAME:CDT
DTSTART:20240310T080000
END:DAYLIGHT
BEGIN:STANDARD
TZOFFSETFROM:-0500
TZOFFSETTO:-0600
TZNAME:CST
DTSTART:20241103T070000
END:STANDARD
BEGIN:DAYLIGHT
TZOFFSETFROM:-0600
TZOFFSETTO:-0500
TZNAME:CDT
DTSTART:20250309T080000
END:DAYLIGHT
BEGIN:STANDARD
TZOFFSETFROM:-0500
TZOFFSETTO:-0600
TZNAME:CST
DTSTART:20251102T070000
END:STANDARD
END:VTIMEZONE
BEGIN:VEVENT
DTSTART;TZID=America/Chicago:20241206T000000
DTEND;TZID=America/Chicago:20241206T235959
DTSTAMP:20260421T040159
CREATED:20241023T160027Z
LAST-MODIFIED:20241023T160209Z
UID:1556-1733443200-1733529599@www.quincychildrensmuseum.org
SUMMARY:2024 TINSEL TOWN!
DESCRIPTION:Howl at the Moon will be joining us for Tinsel Town (12/6)! Tickets on sale this Friday. Get your table together now\, you won’t want to miss this… dueling pianos like you’ve never seen before known to get the crowd howlin’! \n\n\n$100 General Admission\n$175 VIP Reserved Seating\n\n  \nGet your tickets here! \nhttps://quincychildrensmuseum.networkforgood.com/events/78124-tinsel-town
URL:https://www.quincychildrensmuseum.org/event/2024-tinsel-town/
LOCATION:One Event Venue\, 600 Hampshire\, Quincy\, IL\, 62301\, United States
END:VEVENT
BEGIN:VEVENT
DTSTART;TZID=America/Chicago:20241206T090000
DTEND;TZID=America/Chicago:20241206T170000
DTSTAMP:20260421T040159
CREATED:20241201T023913Z
LAST-MODIFIED:20241201T023913Z
UID:1670-1733475600-1733504400@www.quincychildrensmuseum.org
SUMMARY:General Admission
DESCRIPTION:
URL:https://www.quincychildrensmuseum.org/event/general-admission-234/
END:VEVENT
END:VCALENDAR