BEGIN:VCALENDAR
VERSION:2.0
PRODID:-//Quincy Children&#039;s Museum - ECPv6.15.20//NONSGML v1.0//EN
CALSCALE:GREGORIAN
METHOD:PUBLISH
X-WR-CALNAME:Quincy Children&#039;s Museum
X-ORIGINAL-URL:https://www.quincychildrensmuseum.org
X-WR-CALDESC:Events for Quincy Children&#039;s Museum
REFRESH-INTERVAL;VALUE=DURATION:PT1H
X-Robots-Tag:noindex
X-PUBLISHED-TTL:PT1H
BEGIN:VTIMEZONE
TZID:America/Chicago
BEGIN:DAYLIGHT
TZOFFSETFROM:-0600
TZOFFSETTO:-0500
TZNAME:CDT
DTSTART:20230312T080000
END:DAYLIGHT
BEGIN:STANDARD
TZOFFSETFROM:-0500
TZOFFSETTO:-0600
TZNAME:CST
DTSTART:20231105T070000
END:STANDARD
BEGIN:DAYLIGHT
TZOFFSETFROM:-0600
TZOFFSETTO:-0500
TZNAME:CDT
DTSTART:20240310T080000
END:DAYLIGHT
BEGIN:STANDARD
TZOFFSETFROM:-0500
TZOFFSETTO:-0600
TZNAME:CST
DTSTART:20241103T070000
END:STANDARD
BEGIN:DAYLIGHT
TZOFFSETFROM:-0600
TZOFFSETTO:-0500
TZNAME:CDT
DTSTART:20250309T080000
END:DAYLIGHT
BEGIN:STANDARD
TZOFFSETFROM:-0500
TZOFFSETTO:-0600
TZNAME:CST
DTSTART:20251102T070000
END:STANDARD
END:VTIMEZONE
BEGIN:VEVENT
DTSTART;TZID=America/Chicago:20241226T090000
DTEND;TZID=America/Chicago:20241226T120000
DTSTAMP:20260423T042451
CREATED:20241201T030541Z
LAST-MODIFIED:20241201T030541Z
UID:1724-1735203600-1735214400@www.quincychildrensmuseum.org
SUMMARY:General Admission
DESCRIPTION:The museum is open 9-12 and 1-7 for general admission. \nCLOSED 12-1.
URL:https://www.quincychildrensmuseum.org/event/general-admission-245/
END:VEVENT
BEGIN:VEVENT
DTSTART;TZID=America/Chicago:20241226T130000
DTEND;TZID=America/Chicago:20241226T190000
DTSTAMP:20260423T042451
CREATED:20241201T030616Z
LAST-MODIFIED:20241201T030616Z
UID:1727-1735218000-1735239600@www.quincychildrensmuseum.org
SUMMARY:General Admission
DESCRIPTION:The museum is open 9-12 and 1-7 for general admission. \nCLOSED 12-1.
URL:https://www.quincychildrensmuseum.org/event/general-admission-246/
END:VEVENT
END:VCALENDAR