BEGIN:VCALENDAR
VERSION:2.0
PRODID:-//Quincy Children&#039;s Museum - ECPv6.15.20//NONSGML v1.0//EN
CALSCALE:GREGORIAN
METHOD:PUBLISH
X-ORIGINAL-URL:https://www.quincychildrensmuseum.org
X-WR-CALDESC:Events for Quincy Children&#039;s Museum
REFRESH-INTERVAL;VALUE=DURATION:PT1H
X-Robots-Tag:noindex
X-PUBLISHED-TTL:PT1H
BEGIN:VTIMEZONE
TZID:America/Chicago
BEGIN:DAYLIGHT
TZOFFSETFROM:-0600
TZOFFSETTO:-0500
TZNAME:CDT
DTSTART:20230312T080000
END:DAYLIGHT
BEGIN:STANDARD
TZOFFSETFROM:-0500
TZOFFSETTO:-0600
TZNAME:CST
DTSTART:20231105T070000
END:STANDARD
BEGIN:DAYLIGHT
TZOFFSETFROM:-0600
TZOFFSETTO:-0500
TZNAME:CDT
DTSTART:20240310T080000
END:DAYLIGHT
BEGIN:STANDARD
TZOFFSETFROM:-0500
TZOFFSETTO:-0600
TZNAME:CST
DTSTART:20241103T070000
END:STANDARD
BEGIN:DAYLIGHT
TZOFFSETFROM:-0600
TZOFFSETTO:-0500
TZNAME:CDT
DTSTART:20250309T080000
END:DAYLIGHT
BEGIN:STANDARD
TZOFFSETFROM:-0500
TZOFFSETTO:-0600
TZNAME:CST
DTSTART:20251102T070000
END:STANDARD
END:VTIMEZONE
BEGIN:VEVENT
DTSTART;TZID=America/Chicago:20241227T090000
DTEND;TZID=America/Chicago:20241227T120000
DTSTAMP:20260419T130131
CREATED:20241201T030656Z
LAST-MODIFIED:20241201T030656Z
UID:1729-1735290000-1735300800@www.quincychildrensmuseum.org
SUMMARY:General Admission
DESCRIPTION:The museum is open 9-12 and 1-7 for general admission. \nCLOSED 12-1.
URL:https://www.quincychildrensmuseum.org/event/general-admission-247/
END:VEVENT
BEGIN:VEVENT
DTSTART;TZID=America/Chicago:20241227T130000
DTEND;TZID=America/Chicago:20241227T190000
DTSTAMP:20260419T130131
CREATED:20241201T030720Z
LAST-MODIFIED:20241201T030720Z
UID:1732-1735304400-1735326000@www.quincychildrensmuseum.org
SUMMARY:General Admission
DESCRIPTION:The museum is open 9-12 and 1-7 for general admission. \nCLOSED 12-1.
URL:https://www.quincychildrensmuseum.org/event/general-admission-248/
END:VEVENT
END:VCALENDAR