BEGIN:VCALENDAR
VERSION:2.0
PRODID:-//Quincy Children&#039;s Museum - ECPv6.15.20//NONSGML v1.0//EN
CALSCALE:GREGORIAN
METHOD:PUBLISH
X-WR-CALNAME:Quincy Children&#039;s Museum
X-ORIGINAL-URL:https://www.quincychildrensmuseum.org
X-WR-CALDESC:Events for Quincy Children&#039;s Museum
REFRESH-INTERVAL;VALUE=DURATION:PT1H
X-Robots-Tag:noindex
X-PUBLISHED-TTL:PT1H
BEGIN:VTIMEZONE
TZID:America/Chicago
BEGIN:DAYLIGHT
TZOFFSETFROM:-0600
TZOFFSETTO:-0500
TZNAME:CDT
DTSTART:20230312T080000
END:DAYLIGHT
BEGIN:STANDARD
TZOFFSETFROM:-0500
TZOFFSETTO:-0600
TZNAME:CST
DTSTART:20231105T070000
END:STANDARD
BEGIN:DAYLIGHT
TZOFFSETFROM:-0600
TZOFFSETTO:-0500
TZNAME:CDT
DTSTART:20240310T080000
END:DAYLIGHT
BEGIN:STANDARD
TZOFFSETFROM:-0500
TZOFFSETTO:-0600
TZNAME:CST
DTSTART:20241103T070000
END:STANDARD
BEGIN:DAYLIGHT
TZOFFSETFROM:-0600
TZOFFSETTO:-0500
TZNAME:CDT
DTSTART:20250309T080000
END:DAYLIGHT
BEGIN:STANDARD
TZOFFSETFROM:-0500
TZOFFSETTO:-0600
TZNAME:CST
DTSTART:20251102T070000
END:STANDARD
END:VTIMEZONE
BEGIN:VEVENT
DTSTART;TZID=America/Chicago:20240906T090000
DTEND;TZID=America/Chicago:20240906T170000
DTSTAMP:20260419T073800
CREATED:20240830T123012Z
LAST-MODIFIED:20240830T123012Z
UID:1401-1725613200-1725642000@www.quincychildrensmuseum.org
SUMMARY:General Admission 9-5 p.m.
DESCRIPTION:
URL:https://www.quincychildrensmuseum.org/event/general-admission-9-5-p-m-2/
END:VEVENT
BEGIN:VEVENT
DTSTART;TZID=America/Chicago:20240906T090000
DTEND;TZID=America/Chicago:20240906T153000
DTSTAMP:20260419T073800
CREATED:20240830T123039Z
LAST-MODIFIED:20240830T123039Z
UID:1403-1725613200-1725636600@www.quincychildrensmuseum.org
SUMMARY:General Admission
DESCRIPTION:
URL:https://www.quincychildrensmuseum.org/event/general-admission-189/
END:VEVENT
BEGIN:VEVENT
DTSTART;TZID=America/Chicago:20240905T090000
DTEND;TZID=America/Chicago:20240905T170000
DTSTAMP:20260419T073800
CREATED:20240830T122951Z
LAST-MODIFIED:20240830T122951Z
UID:1399-1725526800-1725555600@www.quincychildrensmuseum.org
SUMMARY:General Admission 9-5 p.m.
DESCRIPTION:
URL:https://www.quincychildrensmuseum.org/event/general-admission-9-5-p-m/
END:VEVENT
BEGIN:VEVENT
DTSTART;TZID=America/Chicago:20240904T090000
DTEND;TZID=America/Chicago:20240904T120000
DTSTAMP:20260419T073800
CREATED:20240830T122930Z
LAST-MODIFIED:20240830T122930Z
UID:1397-1725440400-1725451200@www.quincychildrensmuseum.org
SUMMARY:Ready Set Grow 5 and Under Morning
DESCRIPTION:5& under only\, please! \nMember early access 8:30 a.m.
URL:https://www.quincychildrensmuseum.org/event/ready-set-grow-5-and-under-morning-8/
END:VEVENT
BEGIN:VEVENT
DTSTART;TZID=America/Chicago:20240903T160000
DTEND;TZID=America/Chicago:20240903T180000
DTSTAMP:20260419T073800
CREATED:20240830T122836Z
LAST-MODIFIED:20240830T122836Z
UID:1394-1725379200-1725386400@www.quincychildrensmuseum.org
SUMMARY:MEMBER OPEN HOUSE!
DESCRIPTION:Come enjoy the new Discovery Loft Exhibit!!
URL:https://www.quincychildrensmuseum.org/event/member-open-house/
END:VEVENT
BEGIN:VEVENT
DTSTART;TZID=America/Chicago:20240903T090000
DTEND;TZID=America/Chicago:20240903T120000
DTSTAMP:20260419T073800
CREATED:20240830T122755Z
LAST-MODIFIED:20240830T122755Z
UID:1391-1725354000-1725364800@www.quincychildrensmuseum.org
SUMMARY:General Admission 9-12
DESCRIPTION:Early member access 8:30 a.m. \nCome back for Member open house! 4-6 p.m.
URL:https://www.quincychildrensmuseum.org/event/general-admission-9-12/
END:VEVENT
BEGIN:VEVENT
DTSTART;TZID=America/Chicago:20240902T000000
DTEND;TZID=America/Chicago:20240902T235959
DTSTAMP:20260419T073800
CREATED:20240830T122702Z
LAST-MODIFIED:20240830T122702Z
UID:1389-1725235200-1725321599@www.quincychildrensmuseum.org
SUMMARY:CLOSED FOR NEW EXHIBIT SETUP!
DESCRIPTION:
URL:https://www.quincychildrensmuseum.org/event/closed-for-new-exhibit-setup/
END:VEVENT
BEGIN:VEVENT
DTSTART;TZID=America/Chicago:20240901T113000
DTEND;TZID=America/Chicago:20240901T153000
DTSTAMP:20260419T073800
CREATED:20240830T122635Z
LAST-MODIFIED:20240830T122635Z
UID:1387-1725190200-1725204600@www.quincychildrensmuseum.org
SUMMARY:General Admission
DESCRIPTION:
URL:https://www.quincychildrensmuseum.org/event/general-admission-188/
END:VEVENT
BEGIN:VEVENT
DTSTART;TZID=America/Chicago:20240831T090000
DTEND;TZID=America/Chicago:20240831T153000
DTSTAMP:20260419T073800
CREATED:20240731T212955Z
LAST-MODIFIED:20240731T212955Z
UID:1328-1725094800-1725118200@www.quincychildrensmuseum.org
SUMMARY:General Admission 9-3:30
DESCRIPTION:
URL:https://www.quincychildrensmuseum.org/event/general-admission-9-330-5/
END:VEVENT
BEGIN:VEVENT
DTSTART;TZID=America/Chicago:20240830T090000
DTEND;TZID=America/Chicago:20240830T170000
DTSTAMP:20260419T073800
CREATED:20240731T212919Z
LAST-MODIFIED:20240731T212919Z
UID:1326-1725008400-1725037200@www.quincychildrensmuseum.org
SUMMARY:General Admission 9-5
DESCRIPTION:
URL:https://www.quincychildrensmuseum.org/event/general-admission-9-5-10/
END:VEVENT
BEGIN:VEVENT
DTSTART;TZID=America/Chicago:20240829T090000
DTEND;TZID=America/Chicago:20240829T170000
DTSTAMP:20260419T073800
CREATED:20240731T212846Z
LAST-MODIFIED:20240731T212846Z
UID:1323-1724922000-1724950800@www.quincychildrensmuseum.org
SUMMARY:General Admission 9-5
DESCRIPTION:
URL:https://www.quincychildrensmuseum.org/event/general-admission-9-5-9/
END:VEVENT
BEGIN:VEVENT
DTSTART;TZID=America/Chicago:20240828T090000
DTEND;TZID=America/Chicago:20240828T140000
DTSTAMP:20260419T073800
CREATED:20240731T212821Z
LAST-MODIFIED:20240731T212821Z
UID:1321-1724835600-1724853600@www.quincychildrensmuseum.org
SUMMARY:General Admission 9-2
DESCRIPTION:
URL:https://www.quincychildrensmuseum.org/event/general-admission-9-2-2/
END:VEVENT
BEGIN:VEVENT
DTSTART;TZID=America/Chicago:20240827T090000
DTEND;TZID=America/Chicago:20240827T170000
DTSTAMP:20260419T073800
CREATED:20240731T212752Z
LAST-MODIFIED:20240731T212752Z
UID:1319-1724749200-1724778000@www.quincychildrensmuseum.org
SUMMARY:General Admission 9-5
DESCRIPTION:
URL:https://www.quincychildrensmuseum.org/event/general-admission-9-5-8/
END:VEVENT
BEGIN:VEVENT
DTSTART;TZID=America/Chicago:20240826T090000
DTEND;TZID=America/Chicago:20240826T120000
DTSTAMP:20260419T073800
CREATED:20240731T212726Z
LAST-MODIFIED:20240731T212726Z
UID:1316-1724662800-1724673600@www.quincychildrensmuseum.org
SUMMARY:Ready Set Grow Morning 5 & Under
DESCRIPTION:ages 5 and under only\, please \nMembers early access 8:30 a.m.
URL:https://www.quincychildrensmuseum.org/event/ready-set-grow-morning-5-under-3/
END:VEVENT
BEGIN:VEVENT
DTSTART;TZID=America/Chicago:20240825T120000
DTEND;TZID=America/Chicago:20240825T153000
DTSTAMP:20260419T073800
CREATED:20240731T212629Z
LAST-MODIFIED:20240731T212629Z
UID:1313-1724587200-1724599800@www.quincychildrensmuseum.org
SUMMARY:General Admission 12-3:30
DESCRIPTION:
URL:https://www.quincychildrensmuseum.org/event/general-admission-12-330-3/
END:VEVENT
BEGIN:VEVENT
DTSTART;TZID=America/Chicago:20240824T090000
DTEND;TZID=America/Chicago:20240824T153000
DTSTAMP:20260419T073800
CREATED:20240731T212557Z
LAST-MODIFIED:20240731T212557Z
UID:1311-1724490000-1724513400@www.quincychildrensmuseum.org
SUMMARY:General Admission 9-3:30
DESCRIPTION:
URL:https://www.quincychildrensmuseum.org/event/general-admission-9-330-4/
END:VEVENT
BEGIN:VEVENT
DTSTART;TZID=America/Chicago:20240823T170000
DTEND;TZID=America/Chicago:20240823T203000
DTSTAMP:20260419T073800
CREATED:20240731T212509Z
LAST-MODIFIED:20240731T212509Z
UID:1308-1724432400-1724445000@www.quincychildrensmuseum.org
SUMMARY:Blues in the District
DESCRIPTION:Come see us at Blues! 5-8:30 in Washington Park\, Quincy
URL:https://www.quincychildrensmuseum.org/event/blues-in-the-district-2/
END:VEVENT
BEGIN:VEVENT
DTSTART;TZID=America/Chicago:20240823T090000
DTEND;TZID=America/Chicago:20240823T210000
DTSTAMP:20260419T073800
CREATED:20240731T212427Z
LAST-MODIFIED:20240731T212427Z
UID:1306-1724403600-1724446800@www.quincychildrensmuseum.org
SUMMARY:General Admission 9-9
DESCRIPTION:
URL:https://www.quincychildrensmuseum.org/event/general-admission-9-9-2/
END:VEVENT
BEGIN:VEVENT
DTSTART;TZID=America/Chicago:20240822T090000
DTEND;TZID=America/Chicago:20240822T170000
DTSTAMP:20260419T073800
CREATED:20240731T212346Z
LAST-MODIFIED:20240731T212346Z
UID:1303-1724317200-1724346000@www.quincychildrensmuseum.org
SUMMARY:General Admission 9-5
DESCRIPTION:
URL:https://www.quincychildrensmuseum.org/event/general-admission-9-5-7/
END:VEVENT
BEGIN:VEVENT
DTSTART;TZID=America/Chicago:20240821T083000
DTEND;TZID=America/Chicago:20240821T110000
DTSTAMP:20260419T073800
CREATED:20240731T212322Z
LAST-MODIFIED:20240731T212322Z
UID:1301-1724229000-1724238000@www.quincychildrensmuseum.org
SUMMARY:Post Partum Support Group
DESCRIPTION:
URL:https://www.quincychildrensmuseum.org/event/post-partum-support-group/
END:VEVENT
BEGIN:VEVENT
DTSTART;TZID=America/Chicago:20240821T000000
DTEND;TZID=America/Chicago:20240821T235959
DTSTAMP:20260419T073800
CREATED:20240731T212241Z
LAST-MODIFIED:20240731T212241Z
UID:1299-1724198400-1724284799@www.quincychildrensmuseum.org
SUMMARY:Closed
DESCRIPTION:
URL:https://www.quincychildrensmuseum.org/event/closed-11/
END:VEVENT
BEGIN:VEVENT
DTSTART;TZID=America/Chicago:20240820T090000
DTEND;TZID=America/Chicago:20240820T170000
DTSTAMP:20260419T073800
CREATED:20240731T212216Z
LAST-MODIFIED:20240731T212216Z
UID:1297-1724144400-1724173200@www.quincychildrensmuseum.org
SUMMARY:General Admission 9-5
DESCRIPTION:
URL:https://www.quincychildrensmuseum.org/event/general-admission-9-5-6/
END:VEVENT
BEGIN:VEVENT
DTSTART;TZID=America/Chicago:20240819T090000
DTEND;TZID=America/Chicago:20240819T120000
DTSTAMP:20260419T073800
CREATED:20240731T213253Z
LAST-MODIFIED:20240731T213253Z
UID:1330-1724058000-1724068800@www.quincychildrensmuseum.org
SUMMARY:Ready Set Grow 5 & Under Morning
DESCRIPTION:5 & under only\, please \nmembers early access 8:30
URL:https://www.quincychildrensmuseum.org/event/ready-set-grow-5-under-morning-10/
END:VEVENT
BEGIN:VEVENT
DTSTART;TZID=America/Chicago:20240818T120000
DTEND;TZID=America/Chicago:20240818T153000
DTSTAMP:20260419T073800
CREATED:20240731T211940Z
LAST-MODIFIED:20240731T211940Z
UID:1290-1723982400-1723995000@www.quincychildrensmuseum.org
SUMMARY:General Admission 12-3:30
DESCRIPTION:
URL:https://www.quincychildrensmuseum.org/event/general-admission-12-330-2/
END:VEVENT
BEGIN:VEVENT
DTSTART;TZID=America/Chicago:20240817T090000
DTEND;TZID=America/Chicago:20240817T153000
DTSTAMP:20260419T073800
CREATED:20240731T211906Z
LAST-MODIFIED:20240731T211906Z
UID:1287-1723885200-1723908600@www.quincychildrensmuseum.org
SUMMARY:General Admission 9-3:30
DESCRIPTION:
URL:https://www.quincychildrensmuseum.org/event/general-admission-9-330-3/
END:VEVENT
BEGIN:VEVENT
DTSTART;TZID=America/Chicago:20240816T090000
DTEND;TZID=America/Chicago:20240816T170000
DTSTAMP:20260419T073800
CREATED:20240731T211802Z
LAST-MODIFIED:20240731T211802Z
UID:1285-1723798800-1723827600@www.quincychildrensmuseum.org
SUMMARY:General Admission
DESCRIPTION:
URL:https://www.quincychildrensmuseum.org/event/general-admission-187/
END:VEVENT
BEGIN:VEVENT
DTSTART;TZID=America/Chicago:20240815T090000
DTEND;TZID=America/Chicago:20240815T170000
DTSTAMP:20260419T073800
CREATED:20240731T211742Z
LAST-MODIFIED:20240731T211742Z
UID:1283-1723712400-1723741200@www.quincychildrensmuseum.org
SUMMARY:General Admission 9-5
DESCRIPTION:
URL:https://www.quincychildrensmuseum.org/event/general-admission-9-5-5/
END:VEVENT
BEGIN:VEVENT
DTSTART;TZID=America/Chicago:20240814T090000
DTEND;TZID=America/Chicago:20240814T140000
DTSTAMP:20260419T073800
CREATED:20240731T211715Z
LAST-MODIFIED:20240731T211715Z
UID:1281-1723626000-1723644000@www.quincychildrensmuseum.org
SUMMARY:General Admission 9-2
DESCRIPTION:
URL:https://www.quincychildrensmuseum.org/event/general-admission-9-2/
END:VEVENT
BEGIN:VEVENT
DTSTART;TZID=America/Chicago:20240813T090000
DTEND;TZID=America/Chicago:20240813T170000
DTSTAMP:20260419T073800
CREATED:20240731T211652Z
LAST-MODIFIED:20240731T211652Z
UID:1278-1723539600-1723568400@www.quincychildrensmuseum.org
SUMMARY:General Admission 9-5
DESCRIPTION:
URL:https://www.quincychildrensmuseum.org/event/general-admission-9-5-4/
END:VEVENT
BEGIN:VEVENT
DTSTART;TZID=America/Chicago:20240812T110000
DTEND;TZID=America/Chicago:20240812T170000
DTSTAMP:20260419T073800
CREATED:20240731T211622Z
LAST-MODIFIED:20240731T211622Z
UID:1275-1723460400-1723482000@www.quincychildrensmuseum.org
SUMMARY:2nd Annual Golf Tournament
DESCRIPTION:Spring Lake Country Club \n11 a.m. scramble!
URL:https://www.quincychildrensmuseum.org/event/2nd-annual-golf-tournament/
END:VEVENT
END:VCALENDAR