BEGIN:VCALENDAR
VERSION:2.0
PRODID:-//Quincy Children&#039;s Museum - ECPv6.15.20//NONSGML v1.0//EN
CALSCALE:GREGORIAN
METHOD:PUBLISH
X-WR-CALNAME:Quincy Children&#039;s Museum
X-ORIGINAL-URL:https://www.quincychildrensmuseum.org
X-WR-CALDESC:Events for Quincy Children&#039;s Museum
REFRESH-INTERVAL;VALUE=DURATION:PT1H
X-Robots-Tag:noindex
X-PUBLISHED-TTL:PT1H
BEGIN:VTIMEZONE
TZID:America/Chicago
BEGIN:DAYLIGHT
TZOFFSETFROM:-0600
TZOFFSETTO:-0500
TZNAME:CDT
DTSTART:20230312T080000
END:DAYLIGHT
BEGIN:STANDARD
TZOFFSETFROM:-0500
TZOFFSETTO:-0600
TZNAME:CST
DTSTART:20231105T070000
END:STANDARD
BEGIN:DAYLIGHT
TZOFFSETFROM:-0600
TZOFFSETTO:-0500
TZNAME:CDT
DTSTART:20240310T080000
END:DAYLIGHT
BEGIN:STANDARD
TZOFFSETFROM:-0500
TZOFFSETTO:-0600
TZNAME:CST
DTSTART:20241103T070000
END:STANDARD
BEGIN:DAYLIGHT
TZOFFSETFROM:-0600
TZOFFSETTO:-0500
TZNAME:CDT
DTSTART:20250309T080000
END:DAYLIGHT
BEGIN:STANDARD
TZOFFSETFROM:-0500
TZOFFSETTO:-0600
TZNAME:CST
DTSTART:20251102T070000
END:STANDARD
END:VTIMEZONE
BEGIN:VEVENT
DTSTART;TZID=America/Chicago:20241202T090000
DTEND;TZID=America/Chicago:20241202T120000
DTSTAMP:20260421T094228
CREATED:20241201T023601Z
LAST-MODIFIED:20241201T023601Z
UID:1660-1733130000-1733140800@www.quincychildrensmuseum.org
SUMMARY:Ready. Set. Grow.
DESCRIPTION:Admission for 5 & Under only on Ready. Set. Grow. Days \n  \nMembers\, join us early with 8:30 Member Admission
URL:https://www.quincychildrensmuseum.org/event/ready-set-grow-2/
END:VEVENT
BEGIN:VEVENT
DTSTART;TZID=America/Chicago:20241201T110000
DTEND;TZID=America/Chicago:20241201T153000
DTSTAMP:20260421T094228
CREATED:20241201T023335Z
LAST-MODIFIED:20241201T023335Z
UID:1657-1733050800-1733067000@www.quincychildrensmuseum.org
SUMMARY:General Admission
DESCRIPTION:Loft closes at 3:00
URL:https://www.quincychildrensmuseum.org/event/general-admission-231/
END:VEVENT
BEGIN:VEVENT
DTSTART;TZID=America/Chicago:20241130T090000
DTEND;TZID=America/Chicago:20241130T193000
DTSTAMP:20260421T094228
CREATED:20241201T025100Z
LAST-MODIFIED:20241201T025100Z
UID:1704-1732957200-1732995000@www.quincychildrensmuseum.org
SUMMARY:General Admission open LATE
DESCRIPTION:
URL:https://www.quincychildrensmuseum.org/event/general-admission-open-late-2/
END:VEVENT
BEGIN:VEVENT
DTSTART;TZID=America/Chicago:20241130T090000
DTEND;TZID=America/Chicago:20241130T153000
DTSTAMP:20260421T094228
CREATED:20241101T142955Z
LAST-MODIFIED:20241101T142955Z
UID:1637-1732957200-1732980600@www.quincychildrensmuseum.org
SUMMARY:General Admission
DESCRIPTION:Come see us tonight at Light the Park in Washington Park!
URL:https://www.quincychildrensmuseum.org/event/general-admission-230/
END:VEVENT
BEGIN:VEVENT
DTSTART;TZID=America/Chicago:20241130T090000
DTEND;TZID=America/Chicago:20241130T103000
DTSTAMP:20260421T094228
CREATED:20241201T024859Z
LAST-MODIFIED:20241201T024859Z
UID:1701-1732957200-1732962600@www.quincychildrensmuseum.org
SUMMARY:Postpartum Support Group: No General Admission
DESCRIPTION:Join QCM & Blessing Health System for our monthly Postpartum Support Group
URL:https://www.quincychildrensmuseum.org/event/postpartum-support-group-no-general-admission/
END:VEVENT
BEGIN:VEVENT
DTSTART;TZID=America/Chicago:20241130T080000
DTEND;TZID=America/Chicago:20241130T170000
DTSTAMP:20260421T094228
CREATED:20250101T030104Z
LAST-MODIFIED:20241201T043029Z
UID:1717-1732953600-1732986000@www.quincychildrensmuseum.org
SUMMARY:RESERVATIONS REQUIRED
DESCRIPTION:Christmas Eve Eve \n$5 per visitor (adults included) \nMembers\, use code MEMBERSAVE for $1 off per ticket \nSessions 1 hour and 40 minutes\, at 9\, 11\, 1\, 3\, & 5:00 \nOpen play\, adults must stay with their kiddos and a ticket is required for all members of your party. \nStaff will give a 5-10 minute warning at the end of session that it is time to clean up. \nSpecial activities throughout the museum. \nGrab your tickets here: https://givebutter.com/qcmdecember \n 
URL:https://www.quincychildrensmuseum.org/event/reservations-required/
END:VEVENT
BEGIN:VEVENT
DTSTART;TZID=America/Chicago:20241130T080000
DTEND;TZID=America/Chicago:20241130T170000
DTSTAMP:20260421T094228
CREATED:20241224T031356Z
LAST-MODIFIED:20241201T043008Z
UID:1744-1732953600-1732986000@www.quincychildrensmuseum.org
SUMMARY:RESERVATIONS REQUIRED
DESCRIPTION:$5 per visitor (adults and children) \nMembers\, use code MEMBERSAVE for $1 off/ticket \nOpen Play\, adults must stay with their kiddos and a ticket is required for all members of your party. \nStaff will have a countdown timer throughout your session\, ending with a countdown for the new year\, along with 5-10 minutes of cleanup. \nThis event features fun surprises\, a QCM DJ\, & balloon drop. \nClick here to purchase tickets: https://givebutter.com/qcmdecember \nSessions at 9\, 11\, 1\, and 3:00!
URL:https://www.quincychildrensmuseum.org/event/reservations-required-2/
END:VEVENT
BEGIN:VEVENT
DTSTART;TZID=America/Chicago:20241129T090000
DTEND;TZID=America/Chicago:20241129T200000
DTSTAMP:20260421T094228
CREATED:20241101T142909Z
LAST-MODIFIED:20241101T142909Z
UID:1634-1732870800-1732910400@www.quincychildrensmuseum.org
SUMMARY:General Admission- Extra Long Hours! :)
DESCRIPTION:
URL:https://www.quincychildrensmuseum.org/event/general-admission-extra-long-hours-2/
END:VEVENT
BEGIN:VEVENT
DTSTART;TZID=America/Chicago:20241128T000000
DTEND;TZID=America/Chicago:20241128T235959
DTSTAMP:20260421T094228
CREATED:20241101T142656Z
LAST-MODIFIED:20241101T142754Z
UID:1632-1732752000-1732838399@www.quincychildrensmuseum.org
SUMMARY:CLOSED
DESCRIPTION:
URL:https://www.quincychildrensmuseum.org/event/closed-18/
END:VEVENT
BEGIN:VEVENT
DTSTART;TZID=America/Chicago:20241127T090000
DTEND;TZID=America/Chicago:20241127T200000
DTSTAMP:20260421T094228
CREATED:20241101T140348Z
LAST-MODIFIED:20241101T140348Z
UID:1629-1732698000-1732737600@www.quincychildrensmuseum.org
SUMMARY:General Admission- Extra Long Hours! :)
DESCRIPTION:
URL:https://www.quincychildrensmuseum.org/event/general-admission-extra-long-hours/
END:VEVENT
BEGIN:VEVENT
DTSTART;TZID=America/Chicago:20241126T090000
DTEND;TZID=America/Chicago:20241126T120000
DTSTAMP:20260421T094228
CREATED:20241101T140305Z
LAST-MODIFIED:20241101T140305Z
UID:1627-1732611600-1732622400@www.quincychildrensmuseum.org
SUMMARY:General Admission
DESCRIPTION:
URL:https://www.quincychildrensmuseum.org/event/general-admission-229/
END:VEVENT
BEGIN:VEVENT
DTSTART;TZID=America/Chicago:20241125T090000
DTEND;TZID=America/Chicago:20241125T120000
DTSTAMP:20260421T094228
CREATED:20241101T135813Z
LAST-MODIFIED:20241101T135936Z
UID:1625-1732525200-1732536000@www.quincychildrensmuseum.org
SUMMARY:Ready. Set. Grow. Morning 5 & Under
DESCRIPTION:5 and under only\, please. \nEarly morning access 8:30 a.m.
URL:https://www.quincychildrensmuseum.org/event/ready-set-grow-morning-5-under-7/
END:VEVENT
BEGIN:VEVENT
DTSTART;TZID=America/Chicago:20241124T110000
DTEND;TZID=America/Chicago:20241124T153000
DTSTAMP:20260421T094228
CREATED:20241101T135604Z
LAST-MODIFIED:20241101T135604Z
UID:1623-1732446000-1732462200@www.quincychildrensmuseum.org
SUMMARY:General Admission
DESCRIPTION:
URL:https://www.quincychildrensmuseum.org/event/general-admission-228/
END:VEVENT
BEGIN:VEVENT
DTSTART;TZID=America/Chicago:20241123T090000
DTEND;TZID=America/Chicago:20241123T153000
DTSTAMP:20260421T094228
CREATED:20241101T135540Z
LAST-MODIFIED:20241101T135540Z
UID:1621-1732352400-1732375800@www.quincychildrensmuseum.org
SUMMARY:General Admission
DESCRIPTION:
URL:https://www.quincychildrensmuseum.org/event/general-admission-227/
END:VEVENT
BEGIN:VEVENT
DTSTART;TZID=America/Chicago:20241122T090000
DTEND;TZID=America/Chicago:20241122T170000
DTSTAMP:20260421T094228
CREATED:20241101T135456Z
LAST-MODIFIED:20241101T135456Z
UID:1619-1732266000-1732294800@www.quincychildrensmuseum.org
SUMMARY:General Admission
DESCRIPTION:
URL:https://www.quincychildrensmuseum.org/event/general-admission-226/
END:VEVENT
BEGIN:VEVENT
DTSTART;TZID=America/Chicago:20241121T090000
DTEND;TZID=America/Chicago:20241121T170000
DTSTAMP:20260421T094228
CREATED:20241101T135430Z
LAST-MODIFIED:20241101T135430Z
UID:1617-1732179600-1732208400@www.quincychildrensmuseum.org
SUMMARY:General Admission
DESCRIPTION:
URL:https://www.quincychildrensmuseum.org/event/general-admission-225/
END:VEVENT
BEGIN:VEVENT
DTSTART;TZID=America/Chicago:20241120T090000
DTEND;TZID=America/Chicago:20241120T103000
DTSTAMP:20260421T094228
CREATED:20241101T135409Z
LAST-MODIFIED:20241101T135409Z
UID:1615-1732093200-1732098600@www.quincychildrensmuseum.org
SUMMARY:Postpartum Support Group with Blessing Health
DESCRIPTION:
URL:https://www.quincychildrensmuseum.org/event/postpartum-support-group-with-blessing-health-2/
END:VEVENT
BEGIN:VEVENT
DTSTART;TZID=America/Chicago:20241120T000000
DTEND;TZID=America/Chicago:20241120T235959
DTSTAMP:20260421T094228
CREATED:20241101T135327Z
LAST-MODIFIED:20241101T135334Z
UID:1612-1732060800-1732147199@www.quincychildrensmuseum.org
SUMMARY:CLOSED FOR PLAY
DESCRIPTION:
URL:https://www.quincychildrensmuseum.org/event/closed-17/
END:VEVENT
BEGIN:VEVENT
DTSTART;TZID=America/Chicago:20241119T090000
DTEND;TZID=America/Chicago:20241119T120000
DTSTAMP:20260421T094228
CREATED:20241101T135250Z
LAST-MODIFIED:20241101T135250Z
UID:1610-1732006800-1732017600@www.quincychildrensmuseum.org
SUMMARY:General Admission
DESCRIPTION:
URL:https://www.quincychildrensmuseum.org/event/general-admission-224/
END:VEVENT
BEGIN:VEVENT
DTSTART;TZID=America/Chicago:20241118T090000
DTEND;TZID=America/Chicago:20241118T120000
DTSTAMP:20260421T094228
CREATED:20241101T135218Z
LAST-MODIFIED:20241101T135218Z
UID:1607-1731920400-1731931200@www.quincychildrensmuseum.org
SUMMARY:Ready. Set. Grow Morning -5 & under
DESCRIPTION:Ages 5 and under only please. \nEarly member access 8:30 a.m.
URL:https://www.quincychildrensmuseum.org/event/ready-set-grow-morning-5-under-6/
END:VEVENT
BEGIN:VEVENT
DTSTART;TZID=America/Chicago:20241117T110000
DTEND;TZID=America/Chicago:20241117T153000
DTSTAMP:20260421T094228
CREATED:20241101T135048Z
LAST-MODIFIED:20241101T135048Z
UID:1605-1731841200-1731857400@www.quincychildrensmuseum.org
SUMMARY:General Admission
DESCRIPTION:
URL:https://www.quincychildrensmuseum.org/event/general-admission-223/
END:VEVENT
BEGIN:VEVENT
DTSTART;TZID=America/Chicago:20241116T090000
DTEND;TZID=America/Chicago:20241116T153000
DTSTAMP:20260421T094228
CREATED:20241101T135001Z
LAST-MODIFIED:20241101T135001Z
UID:1603-1731747600-1731771000@www.quincychildrensmuseum.org
SUMMARY:General Admission
DESCRIPTION:
URL:https://www.quincychildrensmuseum.org/event/general-admission-222/
END:VEVENT
BEGIN:VEVENT
DTSTART;TZID=America/Chicago:20241115T090000
DTEND;TZID=America/Chicago:20241115T170000
DTSTAMP:20260421T094228
CREATED:20241101T134919Z
LAST-MODIFIED:20241101T134919Z
UID:1601-1731661200-1731690000@www.quincychildrensmuseum.org
SUMMARY:General Admission
DESCRIPTION:
URL:https://www.quincychildrensmuseum.org/event/general-admission-221/
END:VEVENT
BEGIN:VEVENT
DTSTART;TZID=America/Chicago:20241114T090000
DTEND;TZID=America/Chicago:20241114T170000
DTSTAMP:20260421T094228
CREATED:20241101T134858Z
LAST-MODIFIED:20241101T134858Z
UID:1599-1731574800-1731603600@www.quincychildrensmuseum.org
SUMMARY:General Admission
DESCRIPTION:
URL:https://www.quincychildrensmuseum.org/event/general-admission-220/
END:VEVENT
BEGIN:VEVENT
DTSTART;TZID=America/Chicago:20241113T090000
DTEND;TZID=America/Chicago:20241113T120000
DTSTAMP:20260421T094228
CREATED:20241101T134755Z
LAST-MODIFIED:20241101T134755Z
UID:1596-1731488400-1731499200@www.quincychildrensmuseum.org
SUMMARY:Ready. Set. Grow. Morning 5 & Under
DESCRIPTION:Ages 5 & under only\, please! \n 
URL:https://www.quincychildrensmuseum.org/event/ready-set-grow-morning-5-under-5/
END:VEVENT
BEGIN:VEVENT
DTSTART;TZID=America/Chicago:20241112T090000
DTEND;TZID=America/Chicago:20241112T120000
DTSTAMP:20260421T094228
CREATED:20241101T134708Z
LAST-MODIFIED:20241101T134708Z
UID:1594-1731402000-1731412800@www.quincychildrensmuseum.org
SUMMARY:General Admission
DESCRIPTION:
URL:https://www.quincychildrensmuseum.org/event/general-admission-219/
END:VEVENT
BEGIN:VEVENT
DTSTART;TZID=America/Chicago:20241111T090000
DTEND;TZID=America/Chicago:20241111T120000
DTSTAMP:20260421T094228
CREATED:20241101T134601Z
LAST-MODIFIED:20241101T134601Z
UID:1591-1731315600-1731326400@www.quincychildrensmuseum.org
SUMMARY:Ready. Set. Grow. Morning 5 & Under
DESCRIPTION:Ages 5 and under only\, please! \nEarly member access 8:30 a.m.
URL:https://www.quincychildrensmuseum.org/event/ready-set-grow-morning-5-under-4/
END:VEVENT
BEGIN:VEVENT
DTSTART;TZID=America/Chicago:20241110T110000
DTEND;TZID=America/Chicago:20241110T153000
DTSTAMP:20260421T094228
CREATED:20241101T134436Z
LAST-MODIFIED:20241101T134436Z
UID:1589-1731236400-1731252600@www.quincychildrensmuseum.org
SUMMARY:General Admission
DESCRIPTION:
URL:https://www.quincychildrensmuseum.org/event/general-admission-218/
END:VEVENT
BEGIN:VEVENT
DTSTART;TZID=America/Chicago:20241109T090000
DTEND;TZID=America/Chicago:20241109T170000
DTSTAMP:20260421T094228
CREATED:20241101T134403Z
LAST-MODIFIED:20241101T134403Z
UID:1587-1731142800-1731171600@www.quincychildrensmuseum.org
SUMMARY:General Admission
DESCRIPTION:
URL:https://www.quincychildrensmuseum.org/event/general-admission-217/
END:VEVENT
BEGIN:VEVENT
DTSTART;TZID=America/Chicago:20241108T090000
DTEND;TZID=America/Chicago:20241108T170000
DTSTAMP:20260421T094228
CREATED:20241101T134338Z
LAST-MODIFIED:20241101T134338Z
UID:1585-1731056400-1731085200@www.quincychildrensmuseum.org
SUMMARY:General Admission
DESCRIPTION:
URL:https://www.quincychildrensmuseum.org/event/general-admission-216/
END:VEVENT
END:VCALENDAR