BEGIN:VCALENDAR
VERSION:2.0
PRODID:-//Quincy Children&#039;s Museum - ECPv6.15.20//NONSGML v1.0//EN
CALSCALE:GREGORIAN
METHOD:PUBLISH
X-ORIGINAL-URL:https://www.quincychildrensmuseum.org
X-WR-CALDESC:Events for Quincy Children&#039;s Museum
REFRESH-INTERVAL;VALUE=DURATION:PT1H
X-Robots-Tag:noindex
X-PUBLISHED-TTL:PT1H
BEGIN:VTIMEZONE
TZID:America/Chicago
BEGIN:DAYLIGHT
TZOFFSETFROM:-0600
TZOFFSETTO:-0500
TZNAME:CDT
DTSTART:20230312T080000
END:DAYLIGHT
BEGIN:STANDARD
TZOFFSETFROM:-0500
TZOFFSETTO:-0600
TZNAME:CST
DTSTART:20231105T070000
END:STANDARD
BEGIN:DAYLIGHT
TZOFFSETFROM:-0600
TZOFFSETTO:-0500
TZNAME:CDT
DTSTART:20240310T080000
END:DAYLIGHT
BEGIN:STANDARD
TZOFFSETFROM:-0500
TZOFFSETTO:-0600
TZNAME:CST
DTSTART:20241103T070000
END:STANDARD
BEGIN:DAYLIGHT
TZOFFSETFROM:-0600
TZOFFSETTO:-0500
TZNAME:CDT
DTSTART:20250309T080000
END:DAYLIGHT
BEGIN:STANDARD
TZOFFSETFROM:-0500
TZOFFSETTO:-0600
TZNAME:CST
DTSTART:20251102T070000
END:STANDARD
END:VTIMEZONE
BEGIN:VEVENT
DTSTART;TZID=America/Chicago:20240830T090000
DTEND;TZID=America/Chicago:20240830T170000
DTSTAMP:20260425T052214
CREATED:20240731T212919Z
LAST-MODIFIED:20240731T212919Z
UID:1326-1725008400-1725037200@www.quincychildrensmuseum.org
SUMMARY:General Admission 9-5
DESCRIPTION:
URL:https://www.quincychildrensmuseum.org/event/general-admission-9-5-10/
END:VEVENT
BEGIN:VEVENT
DTSTART;TZID=America/Chicago:20240831T090000
DTEND;TZID=America/Chicago:20240831T153000
DTSTAMP:20260425T052214
CREATED:20240731T212955Z
LAST-MODIFIED:20240731T212955Z
UID:1328-1725094800-1725118200@www.quincychildrensmuseum.org
SUMMARY:General Admission 9-3:30
DESCRIPTION:
URL:https://www.quincychildrensmuseum.org/event/general-admission-9-330-5/
END:VEVENT
BEGIN:VEVENT
DTSTART;TZID=America/Chicago:20240901T113000
DTEND;TZID=America/Chicago:20240901T153000
DTSTAMP:20260425T052214
CREATED:20240830T122635Z
LAST-MODIFIED:20240830T122635Z
UID:1387-1725190200-1725204600@www.quincychildrensmuseum.org
SUMMARY:General Admission
DESCRIPTION:
URL:https://www.quincychildrensmuseum.org/event/general-admission-188/
END:VEVENT
BEGIN:VEVENT
DTSTART;TZID=America/Chicago:20240902T000000
DTEND;TZID=America/Chicago:20240902T235959
DTSTAMP:20260425T052214
CREATED:20240830T122702Z
LAST-MODIFIED:20240830T122702Z
UID:1389-1725235200-1725321599@www.quincychildrensmuseum.org
SUMMARY:CLOSED FOR NEW EXHIBIT SETUP!
DESCRIPTION:
URL:https://www.quincychildrensmuseum.org/event/closed-for-new-exhibit-setup/
END:VEVENT
BEGIN:VEVENT
DTSTART;TZID=America/Chicago:20240903T090000
DTEND;TZID=America/Chicago:20240903T120000
DTSTAMP:20260425T052214
CREATED:20240830T122755Z
LAST-MODIFIED:20240830T122755Z
UID:1391-1725354000-1725364800@www.quincychildrensmuseum.org
SUMMARY:General Admission 9-12
DESCRIPTION:Early member access 8:30 a.m. \nCome back for Member open house! 4-6 p.m.
URL:https://www.quincychildrensmuseum.org/event/general-admission-9-12/
END:VEVENT
BEGIN:VEVENT
DTSTART;TZID=America/Chicago:20240903T160000
DTEND;TZID=America/Chicago:20240903T180000
DTSTAMP:20260425T052214
CREATED:20240830T122836Z
LAST-MODIFIED:20240830T122836Z
UID:1394-1725379200-1725386400@www.quincychildrensmuseum.org
SUMMARY:MEMBER OPEN HOUSE!
DESCRIPTION:Come enjoy the new Discovery Loft Exhibit!!
URL:https://www.quincychildrensmuseum.org/event/member-open-house/
END:VEVENT
BEGIN:VEVENT
DTSTART;TZID=America/Chicago:20240904T090000
DTEND;TZID=America/Chicago:20240904T120000
DTSTAMP:20260425T052214
CREATED:20240830T122930Z
LAST-MODIFIED:20240830T122930Z
UID:1397-1725440400-1725451200@www.quincychildrensmuseum.org
SUMMARY:Ready Set Grow 5 and Under Morning
DESCRIPTION:5& under only\, please! \nMember early access 8:30 a.m.
URL:https://www.quincychildrensmuseum.org/event/ready-set-grow-5-and-under-morning-8/
END:VEVENT
BEGIN:VEVENT
DTSTART;TZID=America/Chicago:20240905T090000
DTEND;TZID=America/Chicago:20240905T170000
DTSTAMP:20260425T052214
CREATED:20240830T122951Z
LAST-MODIFIED:20240830T122951Z
UID:1399-1725526800-1725555600@www.quincychildrensmuseum.org
SUMMARY:General Admission 9-5 p.m.
DESCRIPTION:
URL:https://www.quincychildrensmuseum.org/event/general-admission-9-5-p-m/
END:VEVENT
BEGIN:VEVENT
DTSTART;TZID=America/Chicago:20240906T090000
DTEND;TZID=America/Chicago:20240906T153000
DTSTAMP:20260425T052214
CREATED:20240830T123039Z
LAST-MODIFIED:20240830T123039Z
UID:1403-1725613200-1725636600@www.quincychildrensmuseum.org
SUMMARY:General Admission
DESCRIPTION:
URL:https://www.quincychildrensmuseum.org/event/general-admission-189/
END:VEVENT
BEGIN:VEVENT
DTSTART;TZID=America/Chicago:20240906T090000
DTEND;TZID=America/Chicago:20240906T170000
DTSTAMP:20260425T052214
CREATED:20240830T123012Z
LAST-MODIFIED:20240830T123012Z
UID:1401-1725613200-1725642000@www.quincychildrensmuseum.org
SUMMARY:General Admission 9-5 p.m.
DESCRIPTION:
URL:https://www.quincychildrensmuseum.org/event/general-admission-9-5-p-m-2/
END:VEVENT
BEGIN:VEVENT
DTSTART;TZID=America/Chicago:20240908T090000
DTEND;TZID=America/Chicago:20240908T200000
DTSTAMP:20260425T052214
CREATED:20240830T123057Z
LAST-MODIFIED:20240830T123057Z
UID:1405-1725786000-1725825600@www.quincychildrensmuseum.org
SUMMARY:CLOSED
DESCRIPTION:
URL:https://www.quincychildrensmuseum.org/event/closed-12/
END:VEVENT
BEGIN:VEVENT
DTSTART;TZID=America/Chicago:20240909T090000
DTEND;TZID=America/Chicago:20240909T120000
DTSTAMP:20260425T052214
CREATED:20240830T123140Z
LAST-MODIFIED:20240830T123140Z
UID:1407-1725872400-1725883200@www.quincychildrensmuseum.org
SUMMARY:Ready Set Grow 5 and Under Morning
DESCRIPTION:ages 5 & under only\, please! \n  \nMember early access 8:30 a.m.
URL:https://www.quincychildrensmuseum.org/event/ready-set-grow-5-and-under-morning-9/
END:VEVENT
BEGIN:VEVENT
DTSTART;TZID=America/Chicago:20240910T090000
DTEND;TZID=America/Chicago:20240910T120000
DTSTAMP:20260425T052214
CREATED:20240830T123226Z
LAST-MODIFIED:20240830T123226Z
UID:1410-1725958800-1725969600@www.quincychildrensmuseum.org
SUMMARY:General Admission 9-12
DESCRIPTION:Early Member access 8:30 a.m.
URL:https://www.quincychildrensmuseum.org/event/general-admission-9-12-2/
END:VEVENT
BEGIN:VEVENT
DTSTART;TZID=America/Chicago:20240911T090000
DTEND;TZID=America/Chicago:20240911T120000
DTSTAMP:20260425T052214
CREATED:20240830T123258Z
LAST-MODIFIED:20240830T123258Z
UID:1413-1726045200-1726056000@www.quincychildrensmuseum.org
SUMMARY:Ready Set Grow 5 and under Morning
DESCRIPTION:ages 5 & under only\, please! \n  \nMember early access 8:30 a.m.
URL:https://www.quincychildrensmuseum.org/event/ready-set-grow-5-and-under-morning-10/
END:VEVENT
BEGIN:VEVENT
DTSTART;TZID=America/Chicago:20240912T090000
DTEND;TZID=America/Chicago:20240912T170000
DTSTAMP:20260425T052214
CREATED:20240830T123439Z
LAST-MODIFIED:20240830T123439Z
UID:1416-1726131600-1726160400@www.quincychildrensmuseum.org
SUMMARY:General Admission 9-5 p.m
DESCRIPTION:
URL:https://www.quincychildrensmuseum.org/event/general-admission-9-5-p-m-3/
END:VEVENT
BEGIN:VEVENT
DTSTART;TZID=America/Chicago:20240913T090000
DTEND;TZID=America/Chicago:20240913T170000
DTSTAMP:20260425T052214
CREATED:20240830T123515Z
LAST-MODIFIED:20240830T123515Z
UID:1418-1726218000-1726246800@www.quincychildrensmuseum.org
SUMMARY:General Admission 9-5 p.m.
DESCRIPTION:
URL:https://www.quincychildrensmuseum.org/event/general-admission-9-5-p-m-4/
END:VEVENT
BEGIN:VEVENT
DTSTART;TZID=America/Chicago:20240914T090000
DTEND;TZID=America/Chicago:20240914T153000
DTSTAMP:20260425T052214
CREATED:20240830T123549Z
LAST-MODIFIED:20240830T123549Z
UID:1420-1726304400-1726327800@www.quincychildrensmuseum.org
SUMMARY:General Admission 9-3:30 p.m.
DESCRIPTION:
URL:https://www.quincychildrensmuseum.org/event/general-admission-9-330-p-m/
END:VEVENT
BEGIN:VEVENT
DTSTART;TZID=America/Chicago:20240915T113000
DTEND;TZID=America/Chicago:20240915T153000
DTSTAMP:20260425T052214
CREATED:20240830T123618Z
LAST-MODIFIED:20240830T123618Z
UID:1422-1726399800-1726414200@www.quincychildrensmuseum.org
SUMMARY:General Admission 11:30-3:30 p.m.
DESCRIPTION:
URL:https://www.quincychildrensmuseum.org/event/general-admission-1130-330-p-m/
END:VEVENT
BEGIN:VEVENT
DTSTART;TZID=America/Chicago:20240916T090000
DTEND;TZID=America/Chicago:20240916T120000
DTSTAMP:20260425T052214
CREATED:20240904T223829Z
LAST-MODIFIED:20240904T223829Z
UID:1424-1726477200-1726488000@www.quincychildrensmuseum.org
SUMMARY:Ready Set Grow 5 and under hours 9-12
DESCRIPTION:ages 5 and under only\, please!~ \nEarly Member access 8:30 a.m.
URL:https://www.quincychildrensmuseum.org/event/ready-set-grow-5-and-under-hours-9-12/
END:VEVENT
BEGIN:VEVENT
DTSTART;TZID=America/Chicago:20240917T090000
DTEND;TZID=America/Chicago:20240917T120000
DTSTAMP:20260425T052214
CREATED:20240904T223913Z
LAST-MODIFIED:20240904T223913Z
UID:1427-1726563600-1726574400@www.quincychildrensmuseum.org
SUMMARY:General Admission 9-12 p.m.
DESCRIPTION:8:30 a.m. early member access
URL:https://www.quincychildrensmuseum.org/event/general-admission-9-12-p-m/
END:VEVENT
BEGIN:VEVENT
DTSTART;TZID=America/Chicago:20240918T090000
DTEND;TZID=America/Chicago:20240918T120000
DTSTAMP:20260425T052214
CREATED:20240904T223949Z
LAST-MODIFIED:20240904T223949Z
UID:1430-1726650000-1726660800@www.quincychildrensmuseum.org
SUMMARY:Ready Set grow 5 and under hours 9-12 p.m.
DESCRIPTION:ages 5 and under only\, please!~ \nEarly Member access 8:30 a.m.
URL:https://www.quincychildrensmuseum.org/event/ready-set-grow-5-and-under-hours-9-12-p-m/
END:VEVENT
BEGIN:VEVENT
DTSTART;TZID=America/Chicago:20240919T090000
DTEND;TZID=America/Chicago:20240919T170000
DTSTAMP:20260425T052214
CREATED:20240904T224020Z
LAST-MODIFIED:20240904T224020Z
UID:1433-1726736400-1726765200@www.quincychildrensmuseum.org
SUMMARY:General Admission 9 a.m.- 5 p.m.
DESCRIPTION:
URL:https://www.quincychildrensmuseum.org/event/general-admission-9-a-m-5-p-m/
END:VEVENT
BEGIN:VEVENT
DTSTART;TZID=America/Chicago:20240920T090000
DTEND;TZID=America/Chicago:20240920T170000
DTSTAMP:20260425T052214
CREATED:20240904T224045Z
LAST-MODIFIED:20240904T224045Z
UID:1435-1726822800-1726851600@www.quincychildrensmuseum.org
SUMMARY:General Admission 9a.m.-5 p.m.
DESCRIPTION:
URL:https://www.quincychildrensmuseum.org/event/general-admission-9a-m-5-p-m/
END:VEVENT
BEGIN:VEVENT
DTSTART;TZID=America/Chicago:20240921T090000
DTEND;TZID=America/Chicago:20240921T153000
DTSTAMP:20260425T052214
CREATED:20240904T224140Z
LAST-MODIFIED:20240904T224140Z
UID:1437-1726909200-1726932600@www.quincychildrensmuseum.org
SUMMARY:General Admission 9-3:30 p.m.
DESCRIPTION:Come See us at Makers Market + Horizons Bands and BBQ!
URL:https://www.quincychildrensmuseum.org/event/general-admission-9-330-p-m-2/
END:VEVENT
BEGIN:VEVENT
DTSTART;TZID=America/Chicago:20240922T000000
DTEND;TZID=America/Chicago:20240922T235959
DTSTAMP:20260425T052214
CREATED:20240904T224157Z
LAST-MODIFIED:20240904T224157Z
UID:1440-1726963200-1727049599@www.quincychildrensmuseum.org
SUMMARY:CLOSED
DESCRIPTION:
URL:https://www.quincychildrensmuseum.org/event/closed-13/
END:VEVENT
BEGIN:VEVENT
DTSTART;TZID=America/Chicago:20240923T090000
DTEND;TZID=America/Chicago:20240923T120000
DTSTAMP:20260425T052214
CREATED:20240904T224230Z
LAST-MODIFIED:20240904T224230Z
UID:1442-1727082000-1727092800@www.quincychildrensmuseum.org
SUMMARY:Ready Set Grow 5& Under Hours 9-12
DESCRIPTION:ages 5 and under only\, please!~ \nEarly Member access 8:30 a.m.
URL:https://www.quincychildrensmuseum.org/event/ready-set-grow-5-under-hours-9-12/
END:VEVENT
BEGIN:VEVENT
DTSTART;TZID=America/Chicago:20240924T090000
DTEND;TZID=America/Chicago:20240924T120000
DTSTAMP:20260425T052214
CREATED:20240904T224307Z
LAST-MODIFIED:20240904T224307Z
UID:1445-1727168400-1727179200@www.quincychildrensmuseum.org
SUMMARY:General Admission 9-12 p.m.
DESCRIPTION:Early Member access 8:30 a.m.
URL:https://www.quincychildrensmuseum.org/event/general-admission-9-12-p-m-2/
END:VEVENT
BEGIN:VEVENT
DTSTART;TZID=America/Chicago:20240925T000000
DTEND;TZID=America/Chicago:20240925T235959
DTSTAMP:20260425T052214
CREATED:20240904T224350Z
LAST-MODIFIED:20240904T224350Z
UID:1448-1727222400-1727308799@www.quincychildrensmuseum.org
SUMMARY:CLOSED TODAY for Post Partum Support Group 9-10:30
DESCRIPTION:
URL:https://www.quincychildrensmuseum.org/event/closed-today-for-post-partum-support-group-9-1030/
END:VEVENT
BEGIN:VEVENT
DTSTART;TZID=America/Chicago:20240926T090000
DTEND;TZID=America/Chicago:20240926T170000
DTSTAMP:20260425T052214
CREATED:20240904T224409Z
LAST-MODIFIED:20240904T224409Z
UID:1451-1727341200-1727370000@www.quincychildrensmuseum.org
SUMMARY:General Admission 9 a.m.- 5 p.m.
DESCRIPTION:
URL:https://www.quincychildrensmuseum.org/event/general-admission-9-a-m-5-p-m-2/
END:VEVENT
BEGIN:VEVENT
DTSTART;TZID=America/Chicago:20240927T090000
DTEND;TZID=America/Chicago:20240927T170000
DTSTAMP:20260425T052214
CREATED:20240904T224439Z
LAST-MODIFIED:20240904T224439Z
UID:1453-1727427600-1727456400@www.quincychildrensmuseum.org
SUMMARY:General Admission 9-5 p.m.
DESCRIPTION:
URL:https://www.quincychildrensmuseum.org/event/general-admission-9-5-p-m-5/
END:VEVENT
END:VCALENDAR