BEGIN:VCALENDAR
VERSION:2.0
PRODID:-//Quincy Children&#039;s Museum - ECPv6.15.20//NONSGML v1.0//EN
CALSCALE:GREGORIAN
METHOD:PUBLISH
X-WR-CALNAME:Quincy Children&#039;s Museum
X-ORIGINAL-URL:https://www.quincychildrensmuseum.org
X-WR-CALDESC:Events for Quincy Children&#039;s Museum
REFRESH-INTERVAL;VALUE=DURATION:PT1H
X-Robots-Tag:noindex
X-PUBLISHED-TTL:PT1H
BEGIN:VTIMEZONE
TZID:America/Chicago
BEGIN:DAYLIGHT
TZOFFSETFROM:-0600
TZOFFSETTO:-0500
TZNAME:CDT
DTSTART:20240310T080000
END:DAYLIGHT
BEGIN:STANDARD
TZOFFSETFROM:-0500
TZOFFSETTO:-0600
TZNAME:CST
DTSTART:20241103T070000
END:STANDARD
BEGIN:DAYLIGHT
TZOFFSETFROM:-0600
TZOFFSETTO:-0500
TZNAME:CDT
DTSTART:20250309T080000
END:DAYLIGHT
BEGIN:STANDARD
TZOFFSETFROM:-0500
TZOFFSETTO:-0600
TZNAME:CST
DTSTART:20251102T070000
END:STANDARD
BEGIN:DAYLIGHT
TZOFFSETFROM:-0600
TZOFFSETTO:-0500
TZNAME:CDT
DTSTART:20260308T080000
END:DAYLIGHT
BEGIN:STANDARD
TZOFFSETFROM:-0500
TZOFFSETTO:-0600
TZNAME:CST
DTSTART:20261101T070000
END:STANDARD
END:VTIMEZONE
BEGIN:VEVENT
DTSTART;TZID=America/Chicago:20250617T180000
DTEND;TZID=America/Chicago:20250617T200000
DTSTAMP:20260424T051251
CREATED:20250616T130117Z
LAST-MODIFIED:20250616T130117Z
UID:2012-1750183200-1750190400@www.quincychildrensmuseum.org
SUMMARY:Mobile Museum: Arts Quincy Event at Jackson Lincoln Pool
DESCRIPTION:
URL:https://www.quincychildrensmuseum.org/event/mobile-museum-arts-quincy-event-at-jackson-lincoln-pool/
END:VEVENT
BEGIN:VEVENT
DTSTART;TZID=America/Chicago:20250618T090000
DTEND;TZID=America/Chicago:20250618T120000
DTSTAMP:20260424T051251
CREATED:20250616T130235Z
LAST-MODIFIED:20250616T130411Z
UID:2013-1750237200-1750248000@www.quincychildrensmuseum.org
SUMMARY:Ready. Set. Grow. Morning at the Museum
DESCRIPTION:Children 5 & Under and their caregivers- discovery the museum from 9-noon.\n(The museum opens for all ages from noon-5 pm)
URL:https://www.quincychildrensmuseum.org/event/ready-set-grow-morning-at-the-museum/
END:VEVENT
BEGIN:VEVENT
DTSTART;TZID=America/Chicago:20250618T120000
DTEND;TZID=America/Chicago:20250618T170000
DTSTAMP:20260424T051251
CREATED:20250616T130309Z
LAST-MODIFIED:20250616T130309Z
UID:2014-1750248000-1750266000@www.quincychildrensmuseum.org
SUMMARY:General Admission
DESCRIPTION:
URL:https://www.quincychildrensmuseum.org/event/general-admission-339/
END:VEVENT
BEGIN:VEVENT
DTSTART;TZID=America/Chicago:20250619T090000
DTEND;TZID=America/Chicago:20250619T200000
DTSTAMP:20260424T051251
CREATED:20250616T130444Z
LAST-MODIFIED:20250616T130444Z
UID:2015-1750323600-1750363200@www.quincychildrensmuseum.org
SUMMARY:General Admission
DESCRIPTION:
URL:https://www.quincychildrensmuseum.org/event/general-admission-340/
END:VEVENT
BEGIN:VEVENT
DTSTART;TZID=America/Chicago:20250620T090000
DTEND;TZID=America/Chicago:20250620T170000
DTSTAMP:20260424T051251
CREATED:20250616T130517Z
LAST-MODIFIED:20250616T130517Z
UID:2016-1750410000-1750438800@www.quincychildrensmuseum.org
SUMMARY:General Admission
DESCRIPTION:
URL:https://www.quincychildrensmuseum.org/event/general-admission-341/
END:VEVENT
BEGIN:VEVENT
DTSTART;TZID=America/Chicago:20250621T090000
DTEND;TZID=America/Chicago:20250621T170000
DTSTAMP:20260424T051251
CREATED:20250616T130542Z
LAST-MODIFIED:20250616T130542Z
UID:2017-1750496400-1750525200@www.quincychildrensmuseum.org
SUMMARY:General Admission
DESCRIPTION:
URL:https://www.quincychildrensmuseum.org/event/general-admission-342/
END:VEVENT
BEGIN:VEVENT
DTSTART;TZID=America/Chicago:20250622T100000
DTEND;TZID=America/Chicago:20250622T153000
DTSTAMP:20260424T051251
CREATED:20250616T130640Z
LAST-MODIFIED:20250616T130640Z
UID:2018-1750586400-1750606200@www.quincychildrensmuseum.org
SUMMARY:General Admission
DESCRIPTION:
URL:https://www.quincychildrensmuseum.org/event/general-admission-343/
END:VEVENT
BEGIN:VEVENT
DTSTART;TZID=America/Chicago:20250623T090000
DTEND;TZID=America/Chicago:20250623T120000
DTSTAMP:20260424T051251
CREATED:20250616T130741Z
LAST-MODIFIED:20250616T130741Z
UID:2019-1750669200-1750680000@www.quincychildrensmuseum.org
SUMMARY:Ready. Set. Grow. 5 & Under Morning
DESCRIPTION:Children 5 & Under and their Caregivers can explore the museum!
URL:https://www.quincychildrensmuseum.org/event/ready-set-grow-5-under-morning-43/
END:VEVENT
BEGIN:VEVENT
DTSTART;TZID=America/Chicago:20250624T090000
DTEND;TZID=America/Chicago:20250624T120000
DTSTAMP:20260424T051251
CREATED:20250616T130814Z
LAST-MODIFIED:20250616T130814Z
UID:2020-1750755600-1750766400@www.quincychildrensmuseum.org
SUMMARY:General Admission
DESCRIPTION:
URL:https://www.quincychildrensmuseum.org/event/general-admission-344/
END:VEVENT
BEGIN:VEVENT
DTSTART;TZID=America/Chicago:20250625T090000
DTEND;TZID=America/Chicago:20250625T120000
DTSTAMP:20260424T051251
CREATED:20250616T130921Z
LAST-MODIFIED:20250616T130921Z
UID:2021-1750842000-1750852800@www.quincychildrensmuseum.org
SUMMARY:Ready. Set. Grow 5 & Under Morning at the Museum
DESCRIPTION:Children 5 & Under and their caregivers can enjoy the museum\, at noon- we open to all ages!
URL:https://www.quincychildrensmuseum.org/event/ready-set-grow-5-under-morning-at-the-museum/
END:VEVENT
BEGIN:VEVENT
DTSTART;TZID=America/Chicago:20250625T120000
DTEND;TZID=America/Chicago:20250625T170000
DTSTAMP:20260424T051251
CREATED:20250616T130955Z
LAST-MODIFIED:20250616T130955Z
UID:2022-1750852800-1750870800@www.quincychildrensmuseum.org
SUMMARY:General Admission
DESCRIPTION:
URL:https://www.quincychildrensmuseum.org/event/general-admission-345/
END:VEVENT
BEGIN:VEVENT
DTSTART;TZID=America/Chicago:20250626T090000
DTEND;TZID=America/Chicago:20250626T200000
DTSTAMP:20260424T051251
CREATED:20250616T131036Z
LAST-MODIFIED:20250616T131036Z
UID:2024-1750928400-1750968000@www.quincychildrensmuseum.org
SUMMARY:General Admission
DESCRIPTION:
URL:https://www.quincychildrensmuseum.org/event/general-admission-346/
END:VEVENT
BEGIN:VEVENT
DTSTART;TZID=America/Chicago:20250627T090000
DTEND;TZID=America/Chicago:20250627T170000
DTSTAMP:20260424T051251
CREATED:20250616T131212Z
LAST-MODIFIED:20250616T131212Z
UID:2025-1751014800-1751043600@www.quincychildrensmuseum.org
SUMMARY:General Admission
DESCRIPTION:
URL:https://www.quincychildrensmuseum.org/event/general-admission-347/
END:VEVENT
BEGIN:VEVENT
DTSTART;TZID=America/Chicago:20250628T090000
DTEND;TZID=America/Chicago:20250628T170000
DTSTAMP:20260424T051251
CREATED:20250616T131413Z
LAST-MODIFIED:20250616T131413Z
UID:2026-1751101200-1751130000@www.quincychildrensmuseum.org
SUMMARY:General Admission
DESCRIPTION:
URL:https://www.quincychildrensmuseum.org/event/general-admission-348/
END:VEVENT
BEGIN:VEVENT
DTSTART;TZID=America/Chicago:20250629T100000
DTEND;TZID=America/Chicago:20250629T153000
DTSTAMP:20260424T051251
CREATED:20250616T131458Z
LAST-MODIFIED:20250616T131458Z
UID:2027-1751191200-1751211000@www.quincychildrensmuseum.org
SUMMARY:General Admission
DESCRIPTION:
URL:https://www.quincychildrensmuseum.org/event/general-admission-349/
END:VEVENT
BEGIN:VEVENT
DTSTART;TZID=America/Chicago:20250630T090000
DTEND;TZID=America/Chicago:20250630T120000
DTSTAMP:20260424T051251
CREATED:20250616T131626Z
LAST-MODIFIED:20250616T131626Z
UID:2028-1751274000-1751284800@www.quincychildrensmuseum.org
SUMMARY:Ready. Set. Grow. 5 & Under Morning
DESCRIPTION:Children ages 5 & Under and their caregivers are invited to explore the museum!
URL:https://www.quincychildrensmuseum.org/event/ready-set-grow-5-under-morning-44/
END:VEVENT
BEGIN:VEVENT
DTSTART;TZID=America/Chicago:20250701T090000
DTEND;TZID=America/Chicago:20250701T120000
DTSTAMP:20260424T051251
CREATED:20250630T033129Z
LAST-MODIFIED:20250630T033129Z
UID:2030-1751360400-1751371200@www.quincychildrensmuseum.org
SUMMARY:General Admission
DESCRIPTION:
URL:https://www.quincychildrensmuseum.org/event/general-admission-350/
END:VEVENT
BEGIN:VEVENT
DTSTART;TZID=America/Chicago:20250702T090000
DTEND;TZID=America/Chicago:20250702T170000
DTSTAMP:20260424T051251
CREATED:20250630T033203Z
LAST-MODIFIED:20250630T033203Z
UID:2031-1751446800-1751475600@www.quincychildrensmuseum.org
SUMMARY:General Admission
DESCRIPTION:
URL:https://www.quincychildrensmuseum.org/event/general-admission-351/
END:VEVENT
BEGIN:VEVENT
DTSTART;TZID=America/Chicago:20250703T090000
DTEND;TZID=America/Chicago:20250703T200000
DTSTAMP:20260424T051251
CREATED:20250630T033404Z
LAST-MODIFIED:20250630T033404Z
UID:2033-1751533200-1751572800@www.quincychildrensmuseum.org
SUMMARY:General Admission
DESCRIPTION:
URL:https://www.quincychildrensmuseum.org/event/general-admission-352/
END:VEVENT
BEGIN:VEVENT
DTSTART;TZID=America/Chicago:20250704T090000
DTEND;TZID=America/Chicago:20250704T110000
DTSTAMP:20260424T051251
CREATED:20250630T033645Z
LAST-MODIFIED:20250630T033645Z
UID:2034-1751619600-1751626800@www.quincychildrensmuseum.org
SUMMARY:Red\, White\, & Boom! Session 1: 9-11 AM Tickets Required
DESCRIPTION:Grab tickets here!
URL:https://www.quincychildrensmuseum.org/event/red-white-boom-session-1-9-11-am-tickets-required/
END:VEVENT
BEGIN:VEVENT
DTSTART;TZID=America/Chicago:20250704T090000
DTEND;TZID=America/Chicago:20250704T133000
DTSTAMP:20260424T051251
CREATED:20250704T131300Z
LAST-MODIFIED:20250704T131300Z
UID:2063-1751619600-1751635800@www.quincychildrensmuseum.org
SUMMARY:General Admission
DESCRIPTION:
URL:https://www.quincychildrensmuseum.org/event/general-admission-371/
END:VEVENT
BEGIN:VEVENT
DTSTART;TZID=America/Chicago:20250705T090000
DTEND;TZID=America/Chicago:20250705T170000
DTSTAMP:20260424T051251
CREATED:20250630T034000Z
LAST-MODIFIED:20250630T034000Z
UID:2037-1751706000-1751734800@www.quincychildrensmuseum.org
SUMMARY:General Admission
DESCRIPTION:
URL:https://www.quincychildrensmuseum.org/event/general-admission-353/
END:VEVENT
BEGIN:VEVENT
DTSTART;TZID=America/Chicago:20250706T100000
DTEND;TZID=America/Chicago:20250706T153000
DTSTAMP:20260424T051251
CREATED:20250630T034134Z
LAST-MODIFIED:20250630T034134Z
UID:2038-1751796000-1751815800@www.quincychildrensmuseum.org
SUMMARY:General Admission
DESCRIPTION:Author Visit @ 10 AM \n 
URL:https://www.quincychildrensmuseum.org/event/general-admission-354/
END:VEVENT
BEGIN:VEVENT
DTSTART;TZID=America/Chicago:20250707T090000
DTEND;TZID=America/Chicago:20250707T120000
DTSTAMP:20260424T051251
CREATED:20250630T034256Z
LAST-MODIFIED:20250630T034256Z
UID:2039-1751878800-1751889600@www.quincychildrensmuseum.org
SUMMARY:Ready. Set. Grow. 5 & Under Morning at the Museum
DESCRIPTION:This time is reserved for children age 5 & Under + their caregivers to explore the museum!
URL:https://www.quincychildrensmuseum.org/event/ready-set-grow-5-under-morning-at-the-museum-2/
END:VEVENT
BEGIN:VEVENT
DTSTART;TZID=America/Chicago:20250708T090000
DTEND;TZID=America/Chicago:20250708T120000
DTSTAMP:20260424T051251
CREATED:20250630T034333Z
LAST-MODIFIED:20250630T034333Z
UID:2040-1751965200-1751976000@www.quincychildrensmuseum.org
SUMMARY:General Admission
DESCRIPTION:
URL:https://www.quincychildrensmuseum.org/event/general-admission-355/
END:VEVENT
BEGIN:VEVENT
DTSTART;TZID=America/Chicago:20250709T090000
DTEND;TZID=America/Chicago:20250709T170000
DTSTAMP:20260424T051251
CREATED:20250630T034506Z
LAST-MODIFIED:20250630T034506Z
UID:2041-1752051600-1752080400@www.quincychildrensmuseum.org
SUMMARY:Ready. Set. Grow. 5 & Under Morning + General Admission Noon- 5 PM
DESCRIPTION:Wednesday mornings are reserved for children ages 5 & Under and their caregivers. All ages are welcome from Noon – 5 pm.
URL:https://www.quincychildrensmuseum.org/event/ready-set-grow-5-under-morning-general-admission-noon-5-pm/
END:VEVENT
BEGIN:VEVENT
DTSTART;TZID=America/Chicago:20250710T090000
DTEND;TZID=America/Chicago:20250710T200000
DTSTAMP:20260424T051251
CREATED:20250630T034553Z
LAST-MODIFIED:20250630T034553Z
UID:2042-1752138000-1752177600@www.quincychildrensmuseum.org
SUMMARY:General Admission
DESCRIPTION:
URL:https://www.quincychildrensmuseum.org/event/general-admission-356/
END:VEVENT
BEGIN:VEVENT
DTSTART;TZID=America/Chicago:20250711T090000
DTEND;TZID=America/Chicago:20250711T170000
DTSTAMP:20260424T051251
CREATED:20250630T034625Z
LAST-MODIFIED:20250630T034625Z
UID:2043-1752224400-1752253200@www.quincychildrensmuseum.org
SUMMARY:General Admission
DESCRIPTION:
URL:https://www.quincychildrensmuseum.org/event/general-admission-357/
END:VEVENT
BEGIN:VEVENT
DTSTART;TZID=America/Chicago:20250712T090000
DTEND;TZID=America/Chicago:20250712T170000
DTSTAMP:20260424T051251
CREATED:20250630T034648Z
LAST-MODIFIED:20250630T034648Z
UID:2044-1752310800-1752339600@www.quincychildrensmuseum.org
SUMMARY:General Admission
DESCRIPTION:
URL:https://www.quincychildrensmuseum.org/event/general-admission-358/
END:VEVENT
BEGIN:VEVENT
DTSTART;TZID=America/Chicago:20250713T100000
DTEND;TZID=America/Chicago:20250713T153000
DTSTAMP:20260424T051251
CREATED:20250630T034729Z
LAST-MODIFIED:20250630T034729Z
UID:2045-1752400800-1752420600@www.quincychildrensmuseum.org
SUMMARY:General Admission
DESCRIPTION:
URL:https://www.quincychildrensmuseum.org/event/general-admission-359/
END:VEVENT
END:VCALENDAR