BEGIN:VCALENDAR
VERSION:2.0
PRODID:-//Quincy Children&#039;s Museum - ECPv6.15.20//NONSGML v1.0//EN
CALSCALE:GREGORIAN
METHOD:PUBLISH
X-WR-CALNAME:Quincy Children&#039;s Museum
X-ORIGINAL-URL:https://www.quincychildrensmuseum.org
X-WR-CALDESC:Events for Quincy Children&#039;s Museum
REFRESH-INTERVAL;VALUE=DURATION:PT1H
X-Robots-Tag:noindex
X-PUBLISHED-TTL:PT1H
BEGIN:VTIMEZONE
TZID:America/Chicago
BEGIN:DAYLIGHT
TZOFFSETFROM:-0600
TZOFFSETTO:-0500
TZNAME:CDT
DTSTART:20230312T080000
END:DAYLIGHT
BEGIN:STANDARD
TZOFFSETFROM:-0500
TZOFFSETTO:-0600
TZNAME:CST
DTSTART:20231105T070000
END:STANDARD
BEGIN:DAYLIGHT
TZOFFSETFROM:-0600
TZOFFSETTO:-0500
TZNAME:CDT
DTSTART:20240310T080000
END:DAYLIGHT
BEGIN:STANDARD
TZOFFSETFROM:-0500
TZOFFSETTO:-0600
TZNAME:CST
DTSTART:20241103T070000
END:STANDARD
BEGIN:DAYLIGHT
TZOFFSETFROM:-0600
TZOFFSETTO:-0500
TZNAME:CDT
DTSTART:20250309T080000
END:DAYLIGHT
BEGIN:STANDARD
TZOFFSETFROM:-0500
TZOFFSETTO:-0600
TZNAME:CST
DTSTART:20251102T070000
END:STANDARD
END:VTIMEZONE
BEGIN:VEVENT
DTSTART;TZID=America/Chicago:20240821T000000
DTEND;TZID=America/Chicago:20240821T235959
DTSTAMP:20260423T041419
CREATED:20240731T212241Z
LAST-MODIFIED:20240731T212241Z
UID:1299-1724198400-1724284799@www.quincychildrensmuseum.org
SUMMARY:Closed
DESCRIPTION:
URL:https://www.quincychildrensmuseum.org/event/closed-11/
END:VEVENT
BEGIN:VEVENT
DTSTART;TZID=America/Chicago:20240820T090000
DTEND;TZID=America/Chicago:20240820T170000
DTSTAMP:20260423T041419
CREATED:20240731T212216Z
LAST-MODIFIED:20240731T212216Z
UID:1297-1724144400-1724173200@www.quincychildrensmuseum.org
SUMMARY:General Admission 9-5
DESCRIPTION:
URL:https://www.quincychildrensmuseum.org/event/general-admission-9-5-6/
END:VEVENT
BEGIN:VEVENT
DTSTART;TZID=America/Chicago:20240819T090000
DTEND;TZID=America/Chicago:20240819T120000
DTSTAMP:20260423T041419
CREATED:20240731T213253Z
LAST-MODIFIED:20240731T213253Z
UID:1330-1724058000-1724068800@www.quincychildrensmuseum.org
SUMMARY:Ready Set Grow 5 & Under Morning
DESCRIPTION:5 & under only\, please \nmembers early access 8:30
URL:https://www.quincychildrensmuseum.org/event/ready-set-grow-5-under-morning-10/
END:VEVENT
BEGIN:VEVENT
DTSTART;TZID=America/Chicago:20240818T120000
DTEND;TZID=America/Chicago:20240818T153000
DTSTAMP:20260423T041419
CREATED:20240731T211940Z
LAST-MODIFIED:20240731T211940Z
UID:1290-1723982400-1723995000@www.quincychildrensmuseum.org
SUMMARY:General Admission 12-3:30
DESCRIPTION:
URL:https://www.quincychildrensmuseum.org/event/general-admission-12-330-2/
END:VEVENT
BEGIN:VEVENT
DTSTART;TZID=America/Chicago:20240817T090000
DTEND;TZID=America/Chicago:20240817T153000
DTSTAMP:20260423T041419
CREATED:20240731T211906Z
LAST-MODIFIED:20240731T211906Z
UID:1287-1723885200-1723908600@www.quincychildrensmuseum.org
SUMMARY:General Admission 9-3:30
DESCRIPTION:
URL:https://www.quincychildrensmuseum.org/event/general-admission-9-330-3/
END:VEVENT
BEGIN:VEVENT
DTSTART;TZID=America/Chicago:20240816T090000
DTEND;TZID=America/Chicago:20240816T170000
DTSTAMP:20260423T041419
CREATED:20240731T211802Z
LAST-MODIFIED:20240731T211802Z
UID:1285-1723798800-1723827600@www.quincychildrensmuseum.org
SUMMARY:General Admission
DESCRIPTION:
URL:https://www.quincychildrensmuseum.org/event/general-admission-187/
END:VEVENT
BEGIN:VEVENT
DTSTART;TZID=America/Chicago:20240815T090000
DTEND;TZID=America/Chicago:20240815T170000
DTSTAMP:20260423T041419
CREATED:20240731T211742Z
LAST-MODIFIED:20240731T211742Z
UID:1283-1723712400-1723741200@www.quincychildrensmuseum.org
SUMMARY:General Admission 9-5
DESCRIPTION:
URL:https://www.quincychildrensmuseum.org/event/general-admission-9-5-5/
END:VEVENT
BEGIN:VEVENT
DTSTART;TZID=America/Chicago:20240814T090000
DTEND;TZID=America/Chicago:20240814T140000
DTSTAMP:20260423T041419
CREATED:20240731T211715Z
LAST-MODIFIED:20240731T211715Z
UID:1281-1723626000-1723644000@www.quincychildrensmuseum.org
SUMMARY:General Admission 9-2
DESCRIPTION:
URL:https://www.quincychildrensmuseum.org/event/general-admission-9-2/
END:VEVENT
BEGIN:VEVENT
DTSTART;TZID=America/Chicago:20240813T090000
DTEND;TZID=America/Chicago:20240813T170000
DTSTAMP:20260423T041419
CREATED:20240731T211652Z
LAST-MODIFIED:20240731T211652Z
UID:1278-1723539600-1723568400@www.quincychildrensmuseum.org
SUMMARY:General Admission 9-5
DESCRIPTION:
URL:https://www.quincychildrensmuseum.org/event/general-admission-9-5-4/
END:VEVENT
BEGIN:VEVENT
DTSTART;TZID=America/Chicago:20240812T110000
DTEND;TZID=America/Chicago:20240812T170000
DTSTAMP:20260423T041419
CREATED:20240731T211622Z
LAST-MODIFIED:20240731T211622Z
UID:1275-1723460400-1723482000@www.quincychildrensmuseum.org
SUMMARY:2nd Annual Golf Tournament
DESCRIPTION:Spring Lake Country Club \n11 a.m. scramble!
URL:https://www.quincychildrensmuseum.org/event/2nd-annual-golf-tournament/
END:VEVENT
BEGIN:VEVENT
DTSTART;TZID=America/Chicago:20240812T090000
DTEND;TZID=America/Chicago:20240812T120000
DTSTAMP:20260423T041419
CREATED:20240731T212053Z
LAST-MODIFIED:20240731T212053Z
UID:1292-1723453200-1723464000@www.quincychildrensmuseum.org
SUMMARY:Ready Set Grow Morning 5 & Under
DESCRIPTION:5 and under only\, please!\nMembers early access 8:30 a.m.
URL:https://www.quincychildrensmuseum.org/event/ready-set-grow-morning-5-under-2/
END:VEVENT
BEGIN:VEVENT
DTSTART;TZID=America/Chicago:20240811T120000
DTEND;TZID=America/Chicago:20240811T153000
DTSTAMP:20260423T041419
CREATED:20240731T211537Z
LAST-MODIFIED:20240731T211537Z
UID:1273-1723377600-1723390200@www.quincychildrensmuseum.org
SUMMARY:General Admission 12-3:30
DESCRIPTION:
URL:https://www.quincychildrensmuseum.org/event/general-admission-12-330/
END:VEVENT
BEGIN:VEVENT
DTSTART;TZID=America/Chicago:20240810T090000
DTEND;TZID=America/Chicago:20240810T153000
DTSTAMP:20260423T041419
CREATED:20240731T211409Z
LAST-MODIFIED:20240731T211409Z
UID:1268-1723280400-1723303800@www.quincychildrensmuseum.org
SUMMARY:General Admission 9-3:30
DESCRIPTION:
URL:https://www.quincychildrensmuseum.org/event/general-admission-9-330-2/
END:VEVENT
BEGIN:VEVENT
DTSTART;TZID=America/Chicago:20240810T080000
DTEND;TZID=America/Chicago:20240810T110000
DTSTAMP:20260423T041419
CREATED:20240731T211457Z
LAST-MODIFIED:20240731T211457Z
UID:1270-1723276800-1723287600@www.quincychildrensmuseum.org
SUMMARY:Farmer's Market
DESCRIPTION:Come see us downtown at the Farmer’s Market! 8-11 a.m.
URL:https://www.quincychildrensmuseum.org/event/farmers-market/
END:VEVENT
BEGIN:VEVENT
DTSTART;TZID=America/Chicago:20240809T170000
DTEND;TZID=America/Chicago:20240809T203000
DTSTAMP:20260423T041419
CREATED:20240731T211336Z
LAST-MODIFIED:20240731T211336Z
UID:1266-1723222800-1723235400@www.quincychildrensmuseum.org
SUMMARY:Blues in The Park
DESCRIPTION:Come join us at Blues! \n5-8:30 p.m. Washington Park\, Quincy
URL:https://www.quincychildrensmuseum.org/event/blues-in-the-park-2/
END:VEVENT
BEGIN:VEVENT
DTSTART;TZID=America/Chicago:20240809T090000
DTEND;TZID=America/Chicago:20240809T210000
DTSTAMP:20260423T041419
CREATED:20240731T211153Z
LAST-MODIFIED:20240731T211153Z
UID:1263-1723194000-1723237200@www.quincychildrensmuseum.org
SUMMARY:General Admission 9-9
DESCRIPTION:Mobile Exhibit in Rushville! \n 
URL:https://www.quincychildrensmuseum.org/event/general-admission-9-9/
END:VEVENT
BEGIN:VEVENT
DTSTART;TZID=America/Chicago:20240808T090000
DTEND;TZID=America/Chicago:20240808T170000
DTSTAMP:20260423T041419
CREATED:20240731T211030Z
LAST-MODIFIED:20240731T211030Z
UID:1260-1723107600-1723136400@www.quincychildrensmuseum.org
SUMMARY:General Admission 9-5
DESCRIPTION:HIGH TRAFFIC 10-11:30 \nExtremely HIGH TRAFFIC 1-2:30
URL:https://www.quincychildrensmuseum.org/event/general-admission-9-5-3/
END:VEVENT
BEGIN:VEVENT
DTSTART;TZID=America/Chicago:20240807T090000
DTEND;TZID=America/Chicago:20240807T140000
DTSTAMP:20260423T041419
CREATED:20240731T210837Z
LAST-MODIFIED:20240731T210849Z
UID:1257-1723021200-1723039200@www.quincychildrensmuseum.org
SUMMARY:General Admission 9-2
DESCRIPTION:
URL:https://www.quincychildrensmuseum.org/event/general-admission-186/
END:VEVENT
BEGIN:VEVENT
DTSTART;TZID=America/Chicago:20240806T090000
DTEND;TZID=America/Chicago:20240806T170000
DTSTAMP:20260423T041419
CREATED:20240731T210812Z
LAST-MODIFIED:20240731T210812Z
UID:1255-1722934800-1722963600@www.quincychildrensmuseum.org
SUMMARY:General Admission 9-5
DESCRIPTION:
URL:https://www.quincychildrensmuseum.org/event/general-admission-9-5-2/
END:VEVENT
BEGIN:VEVENT
DTSTART;TZID=America/Chicago:20240805T090000
DTEND;TZID=America/Chicago:20240805T120000
DTSTAMP:20260423T041419
CREATED:20240731T210707Z
LAST-MODIFIED:20240731T210707Z
UID:1252-1722848400-1722859200@www.quincychildrensmuseum.org
SUMMARY:Ready Set Grow Morning 5 and under! 9-12
DESCRIPTION:ages 5 and under only\, please! \nEarly access for members 8:30 a.m.
URL:https://www.quincychildrensmuseum.org/event/ready-set-grow-morning-5-and-under-9-12/
END:VEVENT
BEGIN:VEVENT
DTSTART;TZID=America/Chicago:20240804T120000
DTEND;TZID=America/Chicago:20240804T153000
DTSTAMP:20260423T041419
CREATED:20240731T210611Z
LAST-MODIFIED:20240731T210611Z
UID:1250-1722772800-1722785400@www.quincychildrensmuseum.org
SUMMARY:General Admission
DESCRIPTION:
URL:https://www.quincychildrensmuseum.org/event/general-admission-173/
END:VEVENT
BEGIN:VEVENT
DTSTART;TZID=America/Chicago:20240803T090000
DTEND;TZID=America/Chicago:20240803T153000
DTSTAMP:20260423T041419
CREATED:20240731T210535Z
LAST-MODIFIED:20240731T210535Z
UID:1248-1722675600-1722699000@www.quincychildrensmuseum.org
SUMMARY:General Admission 9-3:30
DESCRIPTION:
URL:https://www.quincychildrensmuseum.org/event/general-admission-9-330/
END:VEVENT
BEGIN:VEVENT
DTSTART;TZID=America/Chicago:20240802T090000
DTEND;TZID=America/Chicago:20240802T150000
DTSTAMP:20260423T041419
CREATED:20240731T210459Z
LAST-MODIFIED:20240731T210459Z
UID:1245-1722589200-1722610800@www.quincychildrensmuseum.org
SUMMARY:Education Summit
DESCRIPTION:100 area teachers join us to be inspired and encouraged as they enter the school year! \n  \nThe Crossing 48th Street and afternoon at the museum
URL:https://www.quincychildrensmuseum.org/event/education-summit/
END:VEVENT
BEGIN:VEVENT
DTSTART;TZID=America/Chicago:20240802T090000
DTEND;TZID=America/Chicago:20240802T120000
DTSTAMP:20260423T041419
CREATED:20240731T210347Z
LAST-MODIFIED:20240731T210347Z
UID:1242-1722589200-1722600000@www.quincychildrensmuseum.org
SUMMARY:General Admission - Morning Only! Closed Afternoon for Education Summit!
DESCRIPTION:
URL:https://www.quincychildrensmuseum.org/event/general-admission-morning-only-closed-afternoon-for-education-summit/
END:VEVENT
BEGIN:VEVENT
DTSTART;TZID=America/Chicago:20240801T090000
DTEND;TZID=America/Chicago:20240801T170000
DTSTAMP:20260423T041419
CREATED:20240731T210259Z
LAST-MODIFIED:20240731T210259Z
UID:1240-1722502800-1722531600@www.quincychildrensmuseum.org
SUMMARY:General Admission 9-5
DESCRIPTION:
URL:https://www.quincychildrensmuseum.org/event/general-admission-9-5/
END:VEVENT
BEGIN:VEVENT
DTSTART;TZID=America/Chicago:20240731T090000
DTEND;TZID=America/Chicago:20240731T120000
DTSTAMP:20260423T041419
CREATED:20240701T150454Z
LAST-MODIFIED:20240701T150454Z
UID:1226-1722416400-1722427200@www.quincychildrensmuseum.org
SUMMARY:General Admission
DESCRIPTION:10-11 Legos!
URL:https://www.quincychildrensmuseum.org/event/general-admission-185/
END:VEVENT
BEGIN:VEVENT
DTSTART;TZID=America/Chicago:20240730T090000
DTEND;TZID=America/Chicago:20240730T150000
DTSTAMP:20260423T041419
CREATED:20240701T150428Z
LAST-MODIFIED:20240701T150428Z
UID:1223-1722330000-1722351600@www.quincychildrensmuseum.org
SUMMARY:General Admission
DESCRIPTION:10-11- Sensory Bins \n12-1- Art Project \n2-3- Table Exhibits \n 
URL:https://www.quincychildrensmuseum.org/event/general-admission-184/
END:VEVENT
BEGIN:VEVENT
DTSTART;TZID=America/Chicago:20240729T090000
DTEND;TZID=America/Chicago:20240729T120000
DTSTAMP:20260423T041419
CREATED:20240701T150036Z
LAST-MODIFIED:20240701T150036Z
UID:1220-1722243600-1722254400@www.quincychildrensmuseum.org
SUMMARY:Ready. Set. Grow Morning 5 & Under Morning
DESCRIPTION:Ages 5 and under only\, please \nMember Early Access 8:30 a.m.
URL:https://www.quincychildrensmuseum.org/event/ready-set-grow-morning-5-under-morning/
END:VEVENT
BEGIN:VEVENT
DTSTART;TZID=America/Chicago:20240728T120000
DTEND;TZID=America/Chicago:20240728T153000
DTSTAMP:20260423T041419
CREATED:20240701T145934Z
LAST-MODIFIED:20240701T151522Z
UID:1218-1722168000-1722180600@www.quincychildrensmuseum.org
SUMMARY:General Admission
DESCRIPTION:DIY Activities in the Hayloft!
URL:https://www.quincychildrensmuseum.org/event/general-admission-183/
END:VEVENT
BEGIN:VEVENT
DTSTART;TZID=America/Chicago:20240727T090000
DTEND;TZID=America/Chicago:20240727T153000
DTSTAMP:20260423T041419
CREATED:20240701T145812Z
LAST-MODIFIED:20240701T145812Z
UID:1215-1722070800-1722094200@www.quincychildrensmuseum.org
SUMMARY:General Admission
DESCRIPTION:10-11 Art Project \n12-1 Table Exhibits \n2-3 Sensory Bins
URL:https://www.quincychildrensmuseum.org/event/general-admission-182/
END:VEVENT
END:VCALENDAR