BEGIN:VCALENDAR
VERSION:2.0
PRODID:-//Quincy Children&#039;s Museum - ECPv6.15.20//NONSGML v1.0//EN
CALSCALE:GREGORIAN
METHOD:PUBLISH
X-WR-CALNAME:Quincy Children&#039;s Museum
X-ORIGINAL-URL:https://www.quincychildrensmuseum.org
X-WR-CALDESC:Events for Quincy Children&#039;s Museum
REFRESH-INTERVAL;VALUE=DURATION:PT1H
X-Robots-Tag:noindex
X-PUBLISHED-TTL:PT1H
BEGIN:VTIMEZONE
TZID:America/Chicago
BEGIN:DAYLIGHT
TZOFFSETFROM:-0600
TZOFFSETTO:-0500
TZNAME:CDT
DTSTART:20230312T080000
END:DAYLIGHT
BEGIN:STANDARD
TZOFFSETFROM:-0500
TZOFFSETTO:-0600
TZNAME:CST
DTSTART:20231105T070000
END:STANDARD
BEGIN:DAYLIGHT
TZOFFSETFROM:-0600
TZOFFSETTO:-0500
TZNAME:CDT
DTSTART:20240310T080000
END:DAYLIGHT
BEGIN:STANDARD
TZOFFSETFROM:-0500
TZOFFSETTO:-0600
TZNAME:CST
DTSTART:20241103T070000
END:STANDARD
BEGIN:DAYLIGHT
TZOFFSETFROM:-0600
TZOFFSETTO:-0500
TZNAME:CDT
DTSTART:20250309T080000
END:DAYLIGHT
BEGIN:STANDARD
TZOFFSETFROM:-0500
TZOFFSETTO:-0600
TZNAME:CST
DTSTART:20251102T070000
END:STANDARD
END:VTIMEZONE
BEGIN:VEVENT
DTSTART;TZID=America/Chicago:20241009T090000
DTEND;TZID=America/Chicago:20241009T120000
DTSTAMP:20260423T052542
CREATED:20241003T013004Z
LAST-MODIFIED:20241003T013004Z
UID:1484-1728464400-1728475200@www.quincychildrensmuseum.org
SUMMARY:Ready. Set. Grow 5 & Under Mornings
DESCRIPTION:Ages 5 and under\, only please! \n 
URL:https://www.quincychildrensmuseum.org/event/ready-set-grow-5-under-mornings-2/
END:VEVENT
BEGIN:VEVENT
DTSTART;TZID=America/Chicago:20241010T090000
DTEND;TZID=America/Chicago:20241010T170000
DTSTAMP:20260423T052542
CREATED:20241003T013035Z
LAST-MODIFIED:20241003T013035Z
UID:1487-1728550800-1728579600@www.quincychildrensmuseum.org
SUMMARY:General Admission
DESCRIPTION:
URL:https://www.quincychildrensmuseum.org/event/general-admission-195/
END:VEVENT
BEGIN:VEVENT
DTSTART;TZID=America/Chicago:20241011T090000
DTEND;TZID=America/Chicago:20241011T170000
DTSTAMP:20260423T052542
CREATED:20241003T013115Z
LAST-MODIFIED:20241003T013115Z
UID:1489-1728637200-1728666000@www.quincychildrensmuseum.org
SUMMARY:General Admission
DESCRIPTION:
URL:https://www.quincychildrensmuseum.org/event/general-admission-196/
END:VEVENT
BEGIN:VEVENT
DTSTART;TZID=America/Chicago:20241012T090000
DTEND;TZID=America/Chicago:20241012T153000
DTSTAMP:20260423T052542
CREATED:20241003T013209Z
LAST-MODIFIED:20241003T013209Z
UID:1491-1728723600-1728747000@www.quincychildrensmuseum.org
SUMMARY:General Admission
DESCRIPTION:Our mobile exhibit will be out and about at the Windy Hill Pumpkin Patch!
URL:https://www.quincychildrensmuseum.org/event/general-admission-197/
END:VEVENT
BEGIN:VEVENT
DTSTART;TZID=America/Chicago:20241013T000000
DTEND;TZID=America/Chicago:20241013T235959
DTSTAMP:20260423T052542
CREATED:20241003T013235Z
LAST-MODIFIED:20241003T013235Z
UID:1495-1728777600-1728863999@www.quincychildrensmuseum.org
SUMMARY:CLOSED
DESCRIPTION:
URL:https://www.quincychildrensmuseum.org/event/closed-14/
END:VEVENT
BEGIN:VEVENT
DTSTART;TZID=America/Chicago:20241014T090000
DTEND;TZID=America/Chicago:20241014T120000
DTSTAMP:20260423T052542
CREATED:20241003T013332Z
LAST-MODIFIED:20241003T013332Z
UID:1497-1728896400-1728907200@www.quincychildrensmuseum.org
SUMMARY:Ready. Set. Grow 5 & Under Morning!
DESCRIPTION:Ages 5 and under\, only please! \nEarly member access 8:30 a.m.
URL:https://www.quincychildrensmuseum.org/event/ready-set-grow-5-under-morning-11/
END:VEVENT
BEGIN:VEVENT
DTSTART;TZID=America/Chicago:20241014T120000
DTEND;TZID=America/Chicago:20241014T153000
DTSTAMP:20260423T052542
CREATED:20241003T013407Z
LAST-MODIFIED:20241003T013407Z
UID:1500-1728907200-1728919800@www.quincychildrensmuseum.org
SUMMARY:General Admission
DESCRIPTION:
URL:https://www.quincychildrensmuseum.org/event/general-admission-198/
END:VEVENT
BEGIN:VEVENT
DTSTART;TZID=America/Chicago:20241015T090000
DTEND;TZID=America/Chicago:20241015T120000
DTSTAMP:20260423T052542
CREATED:20241003T013439Z
LAST-MODIFIED:20241003T013439Z
UID:1502-1728982800-1728993600@www.quincychildrensmuseum.org
SUMMARY:General Admission
DESCRIPTION:
URL:https://www.quincychildrensmuseum.org/event/general-admission-199/
END:VEVENT
BEGIN:VEVENT
DTSTART;TZID=America/Chicago:20241016T000000
DTEND;TZID=America/Chicago:20241016T235959
DTSTAMP:20260423T052542
CREATED:20241003T013501Z
LAST-MODIFIED:20241003T013501Z
UID:1504-1729036800-1729123199@www.quincychildrensmuseum.org
SUMMARY:CLOSED
DESCRIPTION:
URL:https://www.quincychildrensmuseum.org/event/closed-15/
END:VEVENT
BEGIN:VEVENT
DTSTART;TZID=America/Chicago:20241016T090000
DTEND;TZID=America/Chicago:20241016T103000
DTSTAMP:20260423T052542
CREATED:20241003T013731Z
LAST-MODIFIED:20241003T013731Z
UID:1506-1729069200-1729074600@www.quincychildrensmuseum.org
SUMMARY:Postpartum Support Group with Blessing Health
DESCRIPTION:
URL:https://www.quincychildrensmuseum.org/event/postpartum-support-group-with-blessing-health/
END:VEVENT
BEGIN:VEVENT
DTSTART;TZID=America/Chicago:20241017T090000
DTEND;TZID=America/Chicago:20241017T170000
DTSTAMP:20260423T052542
CREATED:20241003T013751Z
LAST-MODIFIED:20241003T013751Z
UID:1508-1729155600-1729184400@www.quincychildrensmuseum.org
SUMMARY:General Admission
DESCRIPTION:
URL:https://www.quincychildrensmuseum.org/event/general-admission-200/
END:VEVENT
BEGIN:VEVENT
DTSTART;TZID=America/Chicago:20241018T090000
DTEND;TZID=America/Chicago:20241018T153000
DTSTAMP:20260423T052542
CREATED:20241003T013831Z
LAST-MODIFIED:20241003T013831Z
UID:1512-1729242000-1729265400@www.quincychildrensmuseum.org
SUMMARY:General Admission
DESCRIPTION:
URL:https://www.quincychildrensmuseum.org/event/general-admission-202/
END:VEVENT
BEGIN:VEVENT
DTSTART;TZID=America/Chicago:20241018T090000
DTEND;TZID=America/Chicago:20241018T170000
DTSTAMP:20260423T052542
CREATED:20241003T013810Z
LAST-MODIFIED:20241003T013810Z
UID:1510-1729242000-1729270800@www.quincychildrensmuseum.org
SUMMARY:General Admission
DESCRIPTION:
URL:https://www.quincychildrensmuseum.org/event/general-admission-201/
END:VEVENT
BEGIN:VEVENT
DTSTART;TZID=America/Chicago:20241019T090000
DTEND;TZID=America/Chicago:20241019T153000
DTSTAMP:20260423T052542
CREATED:20241003T015028Z
LAST-MODIFIED:20241003T015028Z
UID:1545-1729328400-1729351800@www.quincychildrensmuseum.org
SUMMARY:General Admission
DESCRIPTION:
URL:https://www.quincychildrensmuseum.org/event/general-admission-210/
END:VEVENT
BEGIN:VEVENT
DTSTART;TZID=America/Chicago:20241020T000000
DTEND;TZID=America/Chicago:20241020T235959
DTSTAMP:20260423T052543
CREATED:20241003T013845Z
LAST-MODIFIED:20241003T013845Z
UID:1515-1729382400-1729468799@www.quincychildrensmuseum.org
SUMMARY:CLOSED
DESCRIPTION:
URL:https://www.quincychildrensmuseum.org/event/closed-16/
END:VEVENT
BEGIN:VEVENT
DTSTART;TZID=America/Chicago:20241021T090000
DTEND;TZID=America/Chicago:20241021T120000
DTSTAMP:20260423T052543
CREATED:20241003T013938Z
LAST-MODIFIED:20241003T013938Z
UID:1517-1729501200-1729512000@www.quincychildrensmuseum.org
SUMMARY:Ready. Set. Grow 5 & Under Morning
DESCRIPTION:Ages 5 and under\, only please! \nEarly Member Access 8:30 a.m.
URL:https://www.quincychildrensmuseum.org/event/ready-set-grow-5-under-morning-12/
END:VEVENT
BEGIN:VEVENT
DTSTART;TZID=America/Chicago:20241022T090000
DTEND;TZID=America/Chicago:20241022T120000
DTSTAMP:20260423T052543
CREATED:20241003T014007Z
LAST-MODIFIED:20241003T014007Z
UID:1520-1729587600-1729598400@www.quincychildrensmuseum.org
SUMMARY:General Admission
DESCRIPTION:
URL:https://www.quincychildrensmuseum.org/event/general-admission-203/
END:VEVENT
BEGIN:VEVENT
DTSTART;TZID=America/Chicago:20241023T090000
DTEND;TZID=America/Chicago:20241023T120000
DTSTAMP:20260423T052543
CREATED:20241003T014049Z
LAST-MODIFIED:20241003T014049Z
UID:1522-1729674000-1729684800@www.quincychildrensmuseum.org
SUMMARY:Ready. Set. Grow 5 & Under Morning
DESCRIPTION:Ages 5 and under\, only please! \n 
URL:https://www.quincychildrensmuseum.org/event/ready-set-grow-5-under-morning-13/
END:VEVENT
BEGIN:VEVENT
DTSTART;TZID=America/Chicago:20241024T090000
DTEND;TZID=America/Chicago:20241024T170000
DTSTAMP:20260423T052543
CREATED:20241003T014104Z
LAST-MODIFIED:20241003T014104Z
UID:1525-1729760400-1729789200@www.quincychildrensmuseum.org
SUMMARY:General Admission
DESCRIPTION:
URL:https://www.quincychildrensmuseum.org/event/general-admission-204/
END:VEVENT
BEGIN:VEVENT
DTSTART;TZID=America/Chicago:20241025T090000
DTEND;TZID=America/Chicago:20241025T170000
DTSTAMP:20260423T052543
CREATED:20241003T014126Z
LAST-MODIFIED:20241003T014126Z
UID:1527-1729846800-1729875600@www.quincychildrensmuseum.org
SUMMARY:General Admission
DESCRIPTION:
URL:https://www.quincychildrensmuseum.org/event/general-admission-205/
END:VEVENT
BEGIN:VEVENT
DTSTART;TZID=America/Chicago:20241026T090000
DTEND;TZID=America/Chicago:20241026T153000
DTSTAMP:20260423T052543
CREATED:20241003T014147Z
LAST-MODIFIED:20241003T014147Z
UID:1529-1729933200-1729956600@www.quincychildrensmuseum.org
SUMMARY:General Admission
DESCRIPTION:
URL:https://www.quincychildrensmuseum.org/event/general-admission-206/
END:VEVENT
BEGIN:VEVENT
DTSTART;TZID=America/Chicago:20241027T110000
DTEND;TZID=America/Chicago:20241027T153000
DTSTAMP:20260423T052543
CREATED:20241003T014211Z
LAST-MODIFIED:20241003T014211Z
UID:1531-1730026800-1730043000@www.quincychildrensmuseum.org
SUMMARY:General Admission
DESCRIPTION:
URL:https://www.quincychildrensmuseum.org/event/general-admission-207/
END:VEVENT
BEGIN:VEVENT
DTSTART;TZID=America/Chicago:20241028T090000
DTEND;TZID=America/Chicago:20241028T120000
DTSTAMP:20260423T052543
CREATED:20241003T014317Z
LAST-MODIFIED:20241003T014317Z
UID:1533-1730106000-1730116800@www.quincychildrensmuseum.org
SUMMARY:Ready. Set. Grow 5 & Under Morning
DESCRIPTION:Ages 5 and under\, only please. \nEarly member access 8:30 a.m.
URL:https://www.quincychildrensmuseum.org/event/ready-set-grow-5-under-morning-14/
END:VEVENT
BEGIN:VEVENT
DTSTART;TZID=America/Chicago:20241029T090000
DTEND;TZID=America/Chicago:20241029T120000
DTSTAMP:20260423T052543
CREATED:20241003T014337Z
LAST-MODIFIED:20241003T014337Z
UID:1536-1730192400-1730203200@www.quincychildrensmuseum.org
SUMMARY:General Admission
DESCRIPTION:
URL:https://www.quincychildrensmuseum.org/event/general-admission-208/
END:VEVENT
BEGIN:VEVENT
DTSTART;TZID=America/Chicago:20241030T090000
DTEND;TZID=America/Chicago:20241030T120000
DTSTAMP:20260423T052543
CREATED:20241003T014422Z
LAST-MODIFIED:20241003T014422Z
UID:1538-1730278800-1730289600@www.quincychildrensmuseum.org
SUMMARY:Ready. Set. Grow 5 & Under Morning
DESCRIPTION:Ages 5 and under\, only please! \n 
URL:https://www.quincychildrensmuseum.org/event/ready-set-grow-5-under-morning-15/
END:VEVENT
BEGIN:VEVENT
DTSTART;TZID=America/Chicago:20241031T090000
DTEND;TZID=America/Chicago:20241031T170000
DTSTAMP:20260423T052543
CREATED:20241003T014441Z
LAST-MODIFIED:20241003T014441Z
UID:1541-1730365200-1730394000@www.quincychildrensmuseum.org
SUMMARY:General Admission
DESCRIPTION:
URL:https://www.quincychildrensmuseum.org/event/general-admission-209/
END:VEVENT
BEGIN:VEVENT
DTSTART;TZID=America/Chicago:20241101T090000
DTEND;TZID=America/Chicago:20241101T170000
DTSTAMP:20260423T052543
CREATED:20241101T133541Z
LAST-MODIFIED:20241101T133541Z
UID:1563-1730451600-1730480400@www.quincychildrensmuseum.org
SUMMARY:General Admission
DESCRIPTION:
URL:https://www.quincychildrensmuseum.org/event/general-admission-211/
END:VEVENT
BEGIN:VEVENT
DTSTART;TZID=America/Chicago:20241102T090000
DTEND;TZID=America/Chicago:20241102T153000
DTSTAMP:20260423T052543
CREATED:20241101T133609Z
LAST-MODIFIED:20241101T133609Z
UID:1565-1730538000-1730561400@www.quincychildrensmuseum.org
SUMMARY:General Admission
DESCRIPTION:
URL:https://www.quincychildrensmuseum.org/event/general-admission-212/
END:VEVENT
BEGIN:VEVENT
DTSTART;TZID=America/Chicago:20241103T110000
DTEND;TZID=America/Chicago:20241103T153000
DTSTAMP:20260423T052543
CREATED:20241101T133639Z
LAST-MODIFIED:20241101T133639Z
UID:1567-1730631600-1730647800@www.quincychildrensmuseum.org
SUMMARY:General Admission
DESCRIPTION:
URL:https://www.quincychildrensmuseum.org/event/general-admission-213/
END:VEVENT
BEGIN:VEVENT
DTSTART;TZID=America/Chicago:20241104T090000
DTEND;TZID=America/Chicago:20241104T120000
DTSTAMP:20260423T052543
CREATED:20241101T133803Z
LAST-MODIFIED:20241101T133803Z
UID:1569-1730710800-1730721600@www.quincychildrensmuseum.org
SUMMARY:Ready. Set. Grow. 5 & Under Morning
DESCRIPTION:Ages 5 and under only\, please! \nEarly Member access 8:30 a.m.
URL:https://www.quincychildrensmuseum.org/event/ready-set-grow-5-under-morning-16/
END:VEVENT
END:VCALENDAR