BEGIN:VCALENDAR
VERSION:2.0
PRODID:-//Quincy Children&#039;s Museum - ECPv6.15.20//NONSGML v1.0//EN
CALSCALE:GREGORIAN
METHOD:PUBLISH
X-ORIGINAL-URL:https://www.quincychildrensmuseum.org
X-WR-CALDESC:Events for Quincy Children&#039;s Museum
REFRESH-INTERVAL;VALUE=DURATION:PT1H
X-Robots-Tag:noindex
X-PUBLISHED-TTL:PT1H
BEGIN:VTIMEZONE
TZID:America/Chicago
BEGIN:DAYLIGHT
TZOFFSETFROM:-0600
TZOFFSETTO:-0500
TZNAME:CDT
DTSTART:20240310T080000
END:DAYLIGHT
BEGIN:STANDARD
TZOFFSETFROM:-0500
TZOFFSETTO:-0600
TZNAME:CST
DTSTART:20241103T070000
END:STANDARD
BEGIN:DAYLIGHT
TZOFFSETFROM:-0600
TZOFFSETTO:-0500
TZNAME:CDT
DTSTART:20250309T080000
END:DAYLIGHT
BEGIN:STANDARD
TZOFFSETFROM:-0500
TZOFFSETTO:-0600
TZNAME:CST
DTSTART:20251102T070000
END:STANDARD
BEGIN:DAYLIGHT
TZOFFSETFROM:-0600
TZOFFSETTO:-0500
TZNAME:CDT
DTSTART:20260308T080000
END:DAYLIGHT
BEGIN:STANDARD
TZOFFSETFROM:-0500
TZOFFSETTO:-0600
TZNAME:CST
DTSTART:20261101T070000
END:STANDARD
END:VTIMEZONE
BEGIN:VEVENT
DTSTART;TZID=America/Chicago:20250322T090000
DTEND;TZID=America/Chicago:20250322T153000
DTSTAMP:20260419T151202
CREATED:20250228T200055Z
LAST-MODIFIED:20250228T200055Z
UID:1913-1742634000-1742657400@www.quincychildrensmuseum.org
SUMMARY:General Admission
DESCRIPTION:
URL:https://www.quincychildrensmuseum.org/event/general-admission-310/
END:VEVENT
BEGIN:VEVENT
DTSTART;TZID=America/Chicago:20250323T100000
DTEND;TZID=America/Chicago:20250323T130000
DTSTAMP:20260419T151202
CREATED:20250228T200134Z
LAST-MODIFIED:20250228T200134Z
UID:1914-1742724000-1742734800@www.quincychildrensmuseum.org
SUMMARY:General Admission
DESCRIPTION:
URL:https://www.quincychildrensmuseum.org/event/general-admission-311/
END:VEVENT
BEGIN:VEVENT
DTSTART;TZID=America/Chicago:20250324T090000
DTEND;TZID=America/Chicago:20250324T120000
DTSTAMP:20260419T151202
CREATED:20250228T200208Z
LAST-MODIFIED:20250228T200208Z
UID:1915-1742806800-1742817600@www.quincychildrensmuseum.org
SUMMARY:Ready. Set. Grow. 5 & Under Morning
DESCRIPTION:Join us Monday and Wednesday’s for RSG mornings\, designed for children ages five and under.   Members\, doors open at 8:30 on Mondays!
URL:https://www.quincychildrensmuseum.org/event/ready-set-grow-5-under-morning-34/
END:VEVENT
BEGIN:VEVENT
DTSTART;TZID=America/Chicago:20250325T090000
DTEND;TZID=America/Chicago:20250325T120000
DTSTAMP:20260419T151202
CREATED:20250228T200243Z
LAST-MODIFIED:20250228T200243Z
UID:1916-1742893200-1742904000@www.quincychildrensmuseum.org
SUMMARY:General Admission
DESCRIPTION:
URL:https://www.quincychildrensmuseum.org/event/general-admission-312/
END:VEVENT
BEGIN:VEVENT
DTSTART;TZID=America/Chicago:20250326T090000
DTEND;TZID=America/Chicago:20250326T120000
DTSTAMP:20260419T151202
CREATED:20250228T200322Z
LAST-MODIFIED:20250228T200322Z
UID:1917-1742979600-1742990400@www.quincychildrensmuseum.org
SUMMARY:Ready. Set. Grow. 5 & Under Morning
DESCRIPTION:Join us Monday and Wednesday’s for RSG mornings\, designed for children ages five and under.
URL:https://www.quincychildrensmuseum.org/event/ready-set-grow-5-under-morning-35/
END:VEVENT
BEGIN:VEVENT
DTSTART;TZID=America/Chicago:20250327T090000
DTEND;TZID=America/Chicago:20250327T170000
DTSTAMP:20260419T151202
CREATED:20250228T200509Z
LAST-MODIFIED:20250228T200509Z
UID:1918-1743066000-1743094800@www.quincychildrensmuseum.org
SUMMARY:General Admission
DESCRIPTION:
URL:https://www.quincychildrensmuseum.org/event/general-admission-313/
END:VEVENT
BEGIN:VEVENT
DTSTART;TZID=America/Chicago:20250328T090000
DTEND;TZID=America/Chicago:20250328T170000
DTSTAMP:20260419T151202
CREATED:20250228T200614Z
LAST-MODIFIED:20250228T200614Z
UID:1920-1743152400-1743181200@www.quincychildrensmuseum.org
SUMMARY:General Admission
DESCRIPTION:
URL:https://www.quincychildrensmuseum.org/event/general-admission-315/
END:VEVENT
BEGIN:VEVENT
DTSTART;TZID=America/Chicago:20250329T090000
DTEND;TZID=America/Chicago:20250329T153000
DTSTAMP:20260419T151202
CREATED:20250228T200654Z
LAST-MODIFIED:20250228T200654Z
UID:1921-1743238800-1743262200@www.quincychildrensmuseum.org
SUMMARY:General Admission
DESCRIPTION:
URL:https://www.quincychildrensmuseum.org/event/general-admission-316/
END:VEVENT
BEGIN:VEVENT
DTSTART;TZID=America/Chicago:20250330T100000
DTEND;TZID=America/Chicago:20250330T130000
DTSTAMP:20260419T151202
CREATED:20250228T200728Z
LAST-MODIFIED:20250228T200728Z
UID:1922-1743328800-1743339600@www.quincychildrensmuseum.org
SUMMARY:General Admission
DESCRIPTION:
URL:https://www.quincychildrensmuseum.org/event/general-admission-317/
END:VEVENT
BEGIN:VEVENT
DTSTART;TZID=America/Chicago:20250331T090000
DTEND;TZID=America/Chicago:20250331T120000
DTSTAMP:20260419T151202
CREATED:20250228T200815Z
LAST-MODIFIED:20250228T200815Z
UID:1923-1743411600-1743422400@www.quincychildrensmuseum.org
SUMMARY:Ready. Set. Grow. 5 & Under Morning
DESCRIPTION:Join us Monday and Wednesday’s for RSG mornings\, designed for children ages five and under.   Members\, doors open at 8:30 on Mondays!
URL:https://www.quincychildrensmuseum.org/event/ready-set-grow-5-under-morning-36/
END:VEVENT
BEGIN:VEVENT
DTSTART;TZID=America/Chicago:20250401T090000
DTEND;TZID=America/Chicago:20250401T120000
DTSTAMP:20260419T151202
CREATED:20250402T021926Z
LAST-MODIFIED:20250402T021926Z
UID:1928-1743498000-1743508800@www.quincychildrensmuseum.org
SUMMARY:General Admission
DESCRIPTION:
URL:https://www.quincychildrensmuseum.org/event/general-admission-318/
END:VEVENT
BEGIN:VEVENT
DTSTART;TZID=America/Chicago:20250402T090000
DTEND;TZID=America/Chicago:20250402T120000
DTSTAMP:20260419T151202
CREATED:20250402T022025Z
LAST-MODIFIED:20250402T022025Z
UID:1929-1743584400-1743595200@www.quincychildrensmuseum.org
SUMMARY:Ready \, Set\, Grow. 5 & Under Morning
DESCRIPTION:Ages 5 & Under only\, please!
URL:https://www.quincychildrensmuseum.org/event/ready-set-grow-5-under-morning-37/
END:VEVENT
BEGIN:VEVENT
DTSTART;TZID=America/Chicago:20250403T090000
DTEND;TZID=America/Chicago:20250403T170000
DTSTAMP:20260419T151202
CREATED:20250402T022058Z
LAST-MODIFIED:20250402T022058Z
UID:1930-1743670800-1743699600@www.quincychildrensmuseum.org
SUMMARY:General Admission
DESCRIPTION:
URL:https://www.quincychildrensmuseum.org/event/general-admission-319/
END:VEVENT
BEGIN:VEVENT
DTSTART;TZID=America/Chicago:20250404T090000
DTEND;TZID=America/Chicago:20250404T170000
DTSTAMP:20260419T151202
CREATED:20250402T022121Z
LAST-MODIFIED:20250402T022121Z
UID:1931-1743757200-1743786000@www.quincychildrensmuseum.org
SUMMARY:General Admission
DESCRIPTION:
URL:https://www.quincychildrensmuseum.org/event/general-admission-320/
END:VEVENT
BEGIN:VEVENT
DTSTART;TZID=America/Chicago:20250405T090000
DTEND;TZID=America/Chicago:20250405T153000
DTSTAMP:20260419T151202
CREATED:20250402T022144Z
LAST-MODIFIED:20250402T022144Z
UID:1932-1743843600-1743867000@www.quincychildrensmuseum.org
SUMMARY:General Admission
DESCRIPTION:
URL:https://www.quincychildrensmuseum.org/event/general-admission-321/
END:VEVENT
BEGIN:VEVENT
DTSTART;TZID=America/Chicago:20250406T100000
DTEND;TZID=America/Chicago:20250406T130000
DTSTAMP:20260419T151202
CREATED:20250402T022213Z
LAST-MODIFIED:20250402T024652Z
UID:1933-1743933600-1743944400@www.quincychildrensmuseum.org
SUMMARY:General Admission
DESCRIPTION:
URL:https://www.quincychildrensmuseum.org/event/general-admission-322/
END:VEVENT
BEGIN:VEVENT
DTSTART;TZID=America/Chicago:20250407T090000
DTEND;TZID=America/Chicago:20250407T120000
DTSTAMP:20260419T151202
CREATED:20250402T022328Z
LAST-MODIFIED:20250402T022328Z
UID:1934-1744016400-1744027200@www.quincychildrensmuseum.org
SUMMARY:Ready\, Set\, Grow! 5 & Under Morning
DESCRIPTION:Ages 5 & Under only\, please! \n  \nEarly member access 8:30 a.m.
URL:https://www.quincychildrensmuseum.org/event/ready-set-grow-5-under-morning-38/
END:VEVENT
BEGIN:VEVENT
DTSTART;TZID=America/Chicago:20250408T090000
DTEND;TZID=America/Chicago:20250408T120000
DTSTAMP:20260419T151202
CREATED:20250402T022357Z
LAST-MODIFIED:20250402T022357Z
UID:1935-1744102800-1744113600@www.quincychildrensmuseum.org
SUMMARY:General Admission
DESCRIPTION:
URL:https://www.quincychildrensmuseum.org/event/general-admission-323/
END:VEVENT
BEGIN:VEVENT
DTSTART;TZID=America/Chicago:20250409T090000
DTEND;TZID=America/Chicago:20250409T120000
DTSTAMP:20260419T151202
CREATED:20250402T022431Z
LAST-MODIFIED:20250402T022431Z
UID:1936-1744189200-1744200000@www.quincychildrensmuseum.org
SUMMARY:Ready\, Set\, Grow. 5 & Under Morning
DESCRIPTION:
URL:https://www.quincychildrensmuseum.org/event/ready-set-grow-5-under-morning-39/
END:VEVENT
BEGIN:VEVENT
DTSTART;TZID=America/Chicago:20250410T000000
DTEND;TZID=America/Chicago:20250411T235959
DTSTAMP:20260419T151202
CREATED:20250402T024248Z
LAST-MODIFIED:20250402T024248Z
UID:1958-1744243200-1744415999@www.quincychildrensmuseum.org
SUMMARY:SPRING CLEANING SALE IN THE LOFT!
DESCRIPTION:See Facebook for details! \nhttps://www.facebook.com/quincychildrensmuseum
URL:https://www.quincychildrensmuseum.org/event/spring-cleaning-sale-in-the-loft/
END:VEVENT
BEGIN:VEVENT
DTSTART;TZID=America/Chicago:20250410T090000
DTEND;TZID=America/Chicago:20250410T170000
DTSTAMP:20260419T151202
CREATED:20250402T022856Z
LAST-MODIFIED:20250402T022856Z
UID:1937-1744275600-1744304400@www.quincychildrensmuseum.org
SUMMARY:General Admission
DESCRIPTION:
URL:https://www.quincychildrensmuseum.org/event/general-admission-324/
END:VEVENT
BEGIN:VEVENT
DTSTART;TZID=America/Chicago:20250411T090000
DTEND;TZID=America/Chicago:20250411T170000
DTSTAMP:20260419T151202
CREATED:20250402T022915Z
LAST-MODIFIED:20250402T022915Z
UID:1938-1744362000-1744390800@www.quincychildrensmuseum.org
SUMMARY:General Admission
DESCRIPTION:
URL:https://www.quincychildrensmuseum.org/event/general-admission-325/
END:VEVENT
BEGIN:VEVENT
DTSTART;TZID=America/Chicago:20250412T090000
DTEND;TZID=America/Chicago:20250412T153000
DTSTAMP:20260419T151202
CREATED:20250402T023059Z
LAST-MODIFIED:20250402T023059Z
UID:1939-1744448400-1744471800@www.quincychildrensmuseum.org
SUMMARY:General Admission
DESCRIPTION:Cine see our Mobile Exhibits at the Food Truck Fest at Oakley-Lindsey Center from 12-5!
URL:https://www.quincychildrensmuseum.org/event/general-admission-326/
END:VEVENT
BEGIN:VEVENT
DTSTART;TZID=America/Chicago:20250413T100000
DTEND;TZID=America/Chicago:20250413T130000
DTSTAMP:20260419T151202
CREATED:20250402T023130Z
LAST-MODIFIED:20250402T023130Z
UID:1940-1744538400-1744549200@www.quincychildrensmuseum.org
SUMMARY:General Admission
DESCRIPTION:
URL:https://www.quincychildrensmuseum.org/event/general-admission-327/
END:VEVENT
BEGIN:VEVENT
DTSTART;TZID=America/Chicago:20250414T000000
DTEND;TZID=America/Chicago:20250416T235959
DTSTAMP:20260419T151202
CREATED:20250402T024151Z
LAST-MODIFIED:20250402T024151Z
UID:1957-1744588800-1744847999@www.quincychildrensmuseum.org
SUMMARY:CHECK FACEBOOK AND INSTAGRAM FOR OUR SCHEDULE FOR THESE DAYS!
DESCRIPTION:https://www.facebook.com/quincychildrensmuseum \n  \nInstagram: @quincychildrensmuseum
URL:https://www.quincychildrensmuseum.org/event/check-facebook-and-instagram-for-our-schedule-for-these-days/
END:VEVENT
BEGIN:VEVENT
DTSTART;TZID=America/Chicago:20250416T000000
DTEND;TZID=America/Chicago:20250416T235959
DTSTAMP:20260419T151202
CREATED:20250402T024415Z
LAST-MODIFIED:20250402T024415Z
UID:1959-1744761600-1744847999@www.quincychildrensmuseum.org
SUMMARY:OPENING DAY FOR OUR NEW LOFT EXHIBIT: TINY TUMBLERS!
DESCRIPTION:You’re going to FLIP over this! \nCome see our collaboration with Gem City Gymnastics in our Discovery Loft!
URL:https://www.quincychildrensmuseum.org/event/opening-day-for-our-new-loft-exhibit-tiny-tumblers/
END:VEVENT
BEGIN:VEVENT
DTSTART;TZID=America/Chicago:20250417T090000
DTEND;TZID=America/Chicago:20250417T170000
DTSTAMP:20260419T151202
CREATED:20250402T023159Z
LAST-MODIFIED:20250402T023159Z
UID:1941-1744880400-1744909200@www.quincychildrensmuseum.org
SUMMARY:General Admission
DESCRIPTION:
URL:https://www.quincychildrensmuseum.org/event/general-admission-328/
END:VEVENT
BEGIN:VEVENT
DTSTART;TZID=America/Chicago:20250418T090000
DTEND;TZID=America/Chicago:20250418T170000
DTSTAMP:20260419T151202
CREATED:20250402T023219Z
LAST-MODIFIED:20250402T023219Z
UID:1942-1744966800-1744995600@www.quincychildrensmuseum.org
SUMMARY:General Admission
DESCRIPTION:
URL:https://www.quincychildrensmuseum.org/event/general-admission-329/
END:VEVENT
BEGIN:VEVENT
DTSTART;TZID=America/Chicago:20250419T090000
DTEND;TZID=America/Chicago:20250419T153000
DTSTAMP:20260419T151202
CREATED:20250402T023249Z
LAST-MODIFIED:20250402T023249Z
UID:1943-1745053200-1745076600@www.quincychildrensmuseum.org
SUMMARY:General Admission
DESCRIPTION:
URL:https://www.quincychildrensmuseum.org/event/general-admission-330/
END:VEVENT
BEGIN:VEVENT
DTSTART;TZID=America/Chicago:20250420T000000
DTEND;TZID=America/Chicago:20250420T235959
DTSTAMP:20260419T151202
CREATED:20250402T023311Z
LAST-MODIFIED:20250402T023311Z
UID:1944-1745107200-1745193599@www.quincychildrensmuseum.org
SUMMARY:CLOSED!!
DESCRIPTION:
URL:https://www.quincychildrensmuseum.org/event/closed-21/
END:VEVENT
END:VCALENDAR